Workbook
Name Elenco_Cespiti: INDEX(#REF!,,#REF!)
Name Elenco_Cespiti: INDEX(#REF!,,#REF!)
Name Elenco_Cespiti: INDEX(#REF!,,#REF!)

Sheet Menu
B1: Indice dei fogli e legenda celle di compilazione
B4: Foglio | C4: Breve descrizione dei contenuti
B5: IN_Anagrafica | C5: Anagrafica bacino di affidamento
B6: Piano Tariffario Affidamento | C6: Sviluppo del Piano Tariffario di affidamento
B7: Ta_Ambito Tariffario | C7: Dettaglio Totale Costi anno a per ambito tariffario appartenente al bacino di affidamento
B8: Ta-1_Ambito Tariffario | C8: Dettaglio Totale Costi anno a-1 per ambito tariffario appartenente al bacino di affidamento
B9: Xreg_Ambito Tariffario | C9: Dettaglio Xreg per ambito tariffario appartenente al bacino di affidamento
B10: Xcom_Ambito Tariffario | C10: Dettaglio Xcom per ambito tariffario appartenente al bacino di affidamento
B11: Kreg_Ambito Tariffario | C11: Dettaglio Kreg per ambito tariffario appartenente al bacino di affidamento
B12: Kcom_Ambito Tariffario | C12: Dettaglio Kcom per ambito tariffario appartenente al bacino di affidamento
B13: CRI_Ambito Tariffario | C13: Dettaglio CRI per ambito tariffario appartenente al bacino di affidamento
B14: Conto_Economico | C14: Sviluppo Conto Economico
B15: Rendiconto finanziario | C15: Sviluppo Rendiconto Finanziario
B16: Stato Patrimoniale | C16: Sviluppo Stato Patrimoniale

Sheet IN_Anagrafica
B2: ANAGRAFICA
E7: Attività oggetto del presente affidamento
D8: Bacino di affidamento | E8: Raccolta (SI/NO) | F8: Spazzamento (SI/NO) | G8: Trattamento e Recupero (SI/NO) | H8: Trattamento e Smaltimento (SI/NO) | I8: Gestione Tariffe e rapporti con gli utenti (SI/NO) | J8: Anno inizio affidamento
J9: 2026
D11: Denominazione Gestore | E11: Partita IVA | F11: ID arera | G11: Tipologia di affidamento [scegliere da menu a tendina] | H11: Data inizio affidamento [gg/mm/aa] | I11: Data scadenza affidamento [gg/mm/aa]
D14: Compilare in caso di pluralità di comuni oggetto del medesimo affidamento
D15: Totale Comuni serviti | E15: =+COUNTA(Tabella2[Denominazione comuni]) -> 0 | F15: Totale Popolazione | G15: =+COUNTA(F18:F1048576) -> 0
D17: Denominazione comuni | E17: Denominazione bacino di affidamento | F17: Codice ISTAT Comune | G17: Popolazione ISTAT 2024
E18: =+$D$9 -> 0
E19: =+$D$9 -> 0
E20: =+$D$9 -> 0
E21: =+$D$9 -> 0
E22: =+$D$9 -> 0
E23: =+$D$9 -> 0
E24: =+$D$9 -> 0
E25: =+$D$9 -> 0
E26: =+$D$9 -> 0
E27: =+$D$9 -> 0
E28: =+$D$9 -> 0
E29: =+$D$9 -> 0
... E150: =+$D$9 -> 0

Sheet PianoTariffarioAffidamento
B1: Piano Tariffario di affidamento
F3: 1° anno nuovo affidamento | G3: 2° anno nuovo affidamento | H3: 3° anno nuovo affidamento | I3: 4° anno nuovo affidamento | J3: 5° anno nuovo affidamento | K3: 6° anno nuovo affidamento | L3: 7° anno nuovo affidamento | M3: 8° anno nuovo affidamento | N3: 9° anno nuovo affidamento | O3: 10° anno nuovo affidamento | P3: 11° anno nuovo affidamento | Q3: 12° anno nuovo affidamento | R3: 13° anno nuovo affidamento | S3: 14° anno nuovo affidamento | T3: 15° anno nuovo affidamento | U3: 16° anno nuovo affidamento
F4: =+IN_Anagrafica!J9 -> 2026 | G4: =+F4+1 -> 2027 | H4: =+G4+1 -> 2028 | I4: =+H4+1 -> 2029 | J4: =+I4+1 -> 2030 | K4: =+J4+1 -> 2031 | L4: =+K4+1 -> 2032 | M4: =+L4+1 -> 2033 | N4: =+M4+1 -> 2034 | ... U4: =+T4+1 -> 2041
B5: Componente Tariffaria | F5: =+IN_Anagrafica!D12 -> 0 | G5: =+F5 -> 0 | H5: =+G5 -> 0 | I5: =+H5 -> 0 | J5: =+I5 -> 0 | K5: =+J5 -> 0 | L5: =+K5 -> 0 | M5: =+L5 -> 0 | N5: =+M5 -> 0 | ... U5: =+T5 -> 0
B6: Costi dell’attività di raccolta e trasporto dei rifiuti urbani indifferenziati CRT
B7: Costi dell’attività di trattamento e smaltimento dei rifiuti urbani CTS
B8: Costi dell’attività di trattamento e recupero dei rifiuti urbani CTR
B9: Costi dell’attività di raccolta e trasporto delle frazioni differenziate CRD
B10: Costi operativi variabili previsionali di cui all'articolo 17.2 del MTR-3 CTS∆expTV
B11: Costi operativi variabili previsionali di cui all'articolo 17.3 del MTR-3 COEXP116,TV
B12: Costi operativi variabili previsionali di cui all'articolo 17.4 del MTR-3 CQEXPTV
B13: Costi operativi variabili previsionali di cui all'articolo 17.5 del MTR-3 COAntTV
B14: Costi operativi incentivanti sistematici variabili di cui all'articolo 10 del MTR-3 COnewEXPTV
B15: Costi operativi incentivanti non sistematici variabili di cui all'articolo 10 del MTR-3 COIEXPTV
B16: Fattore di Sharing b
B17: Proventi della vendita di materiale ed energia derivante da rifiuti AR
B18: Ricavi derivanti dai corrispettivi riconosciuti dai sistemi collettivi di compliance ARsc
B19: Ricavi derivanti dai corrispettivi riconosciuti dal dai sistemi collettivi di compliance dopo sharing b(ARa + ARsc,a) | F19: =+F16*(F17+F18) -> 0 | G19: =+G16*(G17+G18) -> 0 | H19: =+H16*(H17+H18) -> 0 | I19: =+I16*(I17+I18) -> 0 | J19: =+J16*(J17+J18) -> 0 | K19: =+K16*(K17+K18) -> 0 | L19: =+L16*(L17+L18) -> 0 | M19: =+M16*(M17+M18) -> 0 | ... U19: =+U16*(U17+U18) -> 0
B20: Componente a conguaglio relativa ai costi variabili RCtotTV
B21: di cui quote pregresse recuperate nell'anno a - quota variabile RC∆(T-Tmax)pre,TV,a
B22: ∑TVa totale delle entrate tariffarie relative alle componenti di costo variabile relative al gestore | F22: =F6+F7+F8+F9+F10+F11+F12+F13+F15+F14-F19+F20 -> 0 | G22: =G6+G7+G8+G9+G10+G11+G12+G13+G15+G14-G19+G20 -> 0 | H22: =H6+H7+H8+H9+H10+H11+H12+H13+H15+H14-H19+H20 -> 0 | I22: =I6+I7+I8+I9+I10+I11+I12+I13+I15+I14-I19+I20 -> 0 | J22: =J6+J7+J8+J9+J10+J11+J12+J13+J15+J14-J19+J20 -> 0 | K22: =K6+K7+K8+K9+K10+K11+K12+K13+K15+K14-K19+K20 -> 0 | L22: =L6+L7+L8+L9+L10+L11+L12+L13+L15+L14-L19+L20 -> 0 | M22: =M6+M7+M8+M9+M10+M11+M12+M13+M15+M14-M19+M20 -> 0 | ... U22: =U6+U7+U8+U9+U10+U11+U12+U13+U15+U14-U19+U20 -> 0
B23: Costi dell’attività di spazzamento e di lavaggio CSL
B24: Costi per l’attività di gestione delle tariffe e dei rapporti con gli utenti CARC
B25: Costi generali di gestione CGG
B26: Costi relativi alla quota di crediti inesigibili CCD
B27: Altri costi COAL
B28: Costi comuni CC | F28: =+F24+F25+F26+F27 -> 0 | G28: =+G24+G25+G26+G27 -> 0 | H28: =+H24+H25+H26+H27 -> 0 | I28: =+I24+I25+I26+I27 -> 0 | J28: =+J24+J25+J26+J27 -> 0 | K28: =+K24+K25+K26+K27 -> 0 | L28: =+L24+L25+L26+L27 -> 0 | M28: =+M24+M25+M26+M27 -> 0 | ... U28: =+U24+U25+U26+U27 -> 0
B29: Ammortamenti Amm
B30: Accantonamenti Acc | F30: =+SUM(F31:F34) -> 0 | G30: =+SUM(G31:G34) -> 0 | H30: =+SUM(H31:H34) -> 0 | I30: =+SUM(I31:I34) -> 0 | J30: =+SUM(J31:J34) -> 0 | K30: =+SUM(K31:K34) -> 0 | L30: =+SUM(L31:L34) -> 0 | M30: =+SUM(M31:M34) -> 0 | ... U30: =+SUM(U31:U34) -> 0
B31: - di cui costi di gestione post-operativa delle discariche
B32: - di cui per crediti
B33: - di cui per rischi e oneri previsti da normativa di settore e/o dal contratto di affidamento
B34: - di cui per altri non in eccesso rispetto a norme tributarie
B35: Remunerazione del capitale investito netto R
B36: Remunerazione delle immobilizzazioni in corso RLIC
B37: Costi d'uso del capitale di cui all'art. 13.11 del MTR-3 CKproprietari
B38: Costi d'uso del capitale CK | F38: =F36+F35+F30+F29+F37 -> 0 | G38: =G36+G35+G30+G29+G37 -> 0 | H38: =H36+H35+H30+H29+H37 -> 0 | I38: =I36+I35+I30+I29+I37 -> 0 | J38: =J36+J35+J30+J29+J37 -> 0 | K38: =K36+K35+K30+K29+K37 -> 0 | L38: =L36+L35+L30+L29+L37 -> 0 | M38: =M36+M35+M30+M29+M37 -> 0 | ... U38: =U36+U35+U30+U29+U37 -> 0
B39: Costi operativi fissi previsionali di cui all'articolo 17.3 del MTR-3 COEXP116,TF
B40: Costi operativi fissi previsionali di cui all'articolo 17.4 del MTR-3 CQEXPTF
B41: Costi operativi variabili previsionali di cui all'articolo 17.5 del MTR-3 COAntTV
...

Sheet Ta_AmbitoTariffario
B1: Ta - Dettaglio per Ambito Tariffario
D3: =+PianoTariffarioAffidamento!F4 -> 2026 | E3: =+PianoTariffarioAffidamento!G4 -> 2027 | F3: =+PianoTariffarioAffidamento!H4 -> 2028 | G3: =+PianoTariffarioAffidamento!I4 -> 2029 | H3: =+PianoTariffarioAffidamento!J4 -> 2030 | I3: =+PianoTariffarioAffidamento!K4 -> 2031 | J3: =+PianoTariffarioAffidamento!L4 -> 2032 | K3: =+PianoTariffarioAffidamento!M4 -> 2033 | ... R3: =+PianoTariffarioAffidamento!T4 -> 2040
C5: Bacino di affidamento | D5: 1° anno di affidamento | E5: 2° anno di affidamento | F5: 3° anno di affidamento | G5: 4° anno di affidamento | H5: 5° anno di affidamento | I5: 6° anno di affidamento | J5: 7° anno di affidamento | K5: 8° anno di affidamento | L5: 9° anno di affidamento | M5: 10° anno di affidamento | N5: 11° anno di affidamento | O5: 12° anno di affidamento | P5: 13° anno di affidamento | Q5: 14° anno di affidamento | R5: 15° anno di affidamento
C6: Ta relative al gestore | D6: =+PianoTariffarioAffidamento!F70 -> 0 | E6: =+PianoTariffarioAffidamento!G70 -> 0 | F6: =+PianoTariffarioAffidamento!H70 -> 0 | G6: =+PianoTariffarioAffidamento!I70 -> 0 | H6: =+PianoTariffarioAffidamento!J70 -> 0 | I6: =+PianoTariffarioAffidamento!K70 -> 0 | J6: =+PianoTariffarioAffidamento!L70 -> 0 | K6: =+PianoTariffarioAffidamento!M70 -> 0 | ... R6: =+PianoTariffarioAffidamento!T70 -> 0
C8: Totale Ta relative al gestoe | D8: =+SUM(D16:D197) -> 0 | E8: =+SUM(E16:E197) -> 0 | F8: =+SUM(F16:F197) -> 0 | G8: =+SUM(G16:G197) -> 0 | H8: =+SUM(H16:H197) -> 0 | I8: =+SUM(I16:I197) -> 0 | J8: =+SUM(J16:J197) -> 0 | K8: =+SUM(K16:K197) -> 0 | ... R8: =+SUM(R16:R197) -> 0
C10: Per aggiungere le righe si può trascinare in basso l'ultima cella dell'ultima colonna a destra della tabella, o inserire i valori dopo l'ultima riga
C13: Tabella Ta per Ambito Tariffario | D13: =+D3 -> 2026 | E13: =+E3 -> 2027 | F13: =+F3 -> 2028 | G13: =+G3 -> 2029 | H13: =+H3 -> 2030 | I13: =+I3 -> 2031 | J13: =+J3 -> 2032 | K13: =+K3 -> 2033 | ... R13: =+R3 -> 2040
B15: Codice ISTAT | C15: Comune | D15: 1° anno di affidamento | E15: 2° anno di affidamento | F15: 3° anno di affidamento | G15: 4° anno di affidamento | H15: 5° anno di affidamento | I15: 6° anno di affidamento | J15: 7° anno di affidamento | K15: 8° anno di affidamento | L15: 9° anno di affidamento | M15: 10° anno di affidamento | N15: 11° anno di affidamento | O15: 12° anno di affidamento | P15: 13° anno di affidamento | Q15: 14° anno di affidamento | R15: 15° anno di affidamento
B16: =+IN_Anagrafica!F18 -> 0 | C16: =+IN_Anagrafica!D18 -> 0
B17: =+IN_Anagrafica!F19 -> 0 | C17: =+IN_Anagrafica!D19 -> 0
B18: =+IN_Anagrafica!F20 -> 0 | C18: =+IN_Anagrafica!D20 -> 0
B19: =+IN_Anagrafica!F21 -> 0 | C19: =+IN_Anagrafica!D21 -> 0
B20: =+IN_Anagrafica!F22 -> 0 | C20: =+IN_Anagrafica!D22 -> 0
B21: =+IN_Anagrafica!F23 -> 0 | C21: =+IN_Anagrafica!D23 -> 0
B22: =+IN_Anagrafica!F24 -> 0 | C22: =+IN_Anagrafica!D24 -> 0
B23: =+IN_Anagrafica!F25 -> 0 | C23: =+IN_Anagrafica!D25 -> 0
B24: =+IN_Anagrafica!F26 -> 0 | C24: =+IN_Anagrafica!D26 -> 0
B25: =+IN_Anagrafica!F27 -> 0 | C25: =+IN_Anagrafica!D27 -> 0
B26: =+IN_Anagrafica!F28 -> 0 | C26: =+IN_Anagrafica!D28 -> 0
B27: =+IN_Anagrafica!F29 -> 0 | C27: =+IN_Anagrafica!D29 -> 0
... B86: =+IN_Anagrafica!F88 -> 0 | C86: =+IN_Anagrafica!D88 -> 0
B87: =+IN_Anagrafica!F151 -> 0 | C87: =+IN_Anagrafica!D151 -> 0
B88: =+IN_Anagrafica!F152 -> 0 | C88: =+IN_Anagrafica!D152 -> 0
B89: =+IN_Anagrafica!F153 -> 0 | C89: =+IN_Anagrafica!D153 -> 0
B90: =+IN_Anagrafica!F154 -> 0 | C90: =+IN_Anagrafica!D154 -> 0
B91: =+IN_Anagrafica!F155 -> 0 | C91: =+IN_Anagrafica!D155 -> 0
B92: =+IN_Anagrafica!F156 -> 0 | C92: =+IN_Anagrafica!D156 -> 0
B93: =+IN_Anagrafica!F157 -> 0 | C93: =+IN_Anagrafica!D157 -> 0
B94: =+IN_Anagrafica!F158 -> 0 | C94: =+IN_Anagrafica!D158 -> 0
B95: =+IN_Anagrafica!F159 -> 0 | C95: =+IN_Anagrafica!D159 -> 0
B96: =+IN_Anagrafica!F160 -> 0 | C96: =+IN_Anagrafica!D160 -> 0
B97: =+IN_Anagrafica!F161 -> 0 | C97: =+IN_Anagrafica!D161 -> 0
B98: =+IN_Anagrafica!F162 -> 0 | C98: =+IN_Anagrafica!D162 -> 0
... B100: =+IN_Anagrafica!F164 -> 0 | C100: =+IN_Anagrafica!D164 -> 0

Sheet Ta-1_AmbitoTariffario
B1: Ta-1 - Dettaglio per ambito tariffario
D3: =+PianoTariffarioAffidamento!F4 -> 2026 | E3: =+PianoTariffarioAffidamento!G4 -> 2027 | F3: =+PianoTariffarioAffidamento!H4 -> 2028 | G3: =+PianoTariffarioAffidamento!I4 -> 2029 | H3: =+PianoTariffarioAffidamento!J4 -> 2030 | I3: =+PianoTariffarioAffidamento!K4 -> 2031 | J3: =+PianoTariffarioAffidamento!L4 -> 2032 | K3: =+PianoTariffarioAffidamento!M4 -> 2033 | ... R3: =+PianoTariffarioAffidamento!T4 -> 2040
C5: Bacino di affidamento | D5: 1° anno di affidamento | E5: 2° anno di affidamento | F5: 3° anno di affidamento | G5: 4° anno di affidamento | H5: 5° anno di affidamento | I5: 6° anno di affidamento | J5: 7° anno di affidamento | K5: 8° anno di affidamento | L5: 9° anno di affidamento | M5: 10° anno di affidamento | N5: 11° anno di affidamento | O5: 12° anno di affidamento | P5: 13° anno di affidamento | Q5: 14° anno di affidamento | R5: 15° anno di affidamento
C6: Ta-1 relative al gestore | D6: =+PianoTariffarioAffidamento!F61 -> 0 | E6: =+PianoTariffarioAffidamento!G61 -> 0 | F6: =+PianoTariffarioAffidamento!H61 -> 0 | G6: =+PianoTariffarioAffidamento!I61 -> 0 | H6: =+PianoTariffarioAffidamento!J61 -> 0 | I6: =+PianoTariffarioAffidamento!K61 -> 0 | J6: =+PianoTariffarioAffidamento!L61 -> 0 | K6: =+PianoTariffarioAffidamento!M61 -> 0 | ... R6: =+PianoTariffarioAffidamento!T61 -> 0
C8: Totale Ta-1 relative al gestore | D8: =+SUM(D16:D196) -> 0 | E8: =+SUM(E16:E196) -> 0 | F8: =+SUM(F16:F196) -> 0 | G8: =+SUM(G16:G196) -> 0 | H8: =+SUM(H16:H196) -> 0 | I8: =+SUM(I16:I196) -> 0 | J8: =+SUM(J16:J196) -> 0 | K8: =+SUM(K16:K196) -> 0 | ... R8: =+SUM(R16:R196) -> 0
C10: Per aggiungere le righe si può trascinare in basso l'ultima cella dell'ultima colonna a destra della tabella, o inserire i valori dopo l'ultima riga
C13: Tabella Ta-1 per Ambito tariffario | D13: =+D3 -> 2026 | E13: =+E3 -> 2027 | F13: =+F3 -> 2028 | G13: =+G3 -> 2029 | H13: =+H3 -> 2030 | I13: =+I3 -> 2031 | J13: =+J3 -> 2032 | K13: =+K3 -> 2033 | ... R13: =+R3 -> 2040
B15: Codice ISTAT | C15: Comune | D15: 1° anno di affidamento | E15: 2° anno di affidamento | F15: 3° anno di affidamento | G15: 4° anno di affidamento | H15: 5° anno di affidamento | I15: 6° anno di affidamento | J15: 7° anno di affidamento | K15: 8° anno di affidamento | L15: 9° anno di affidamento | M15: 10° anno di affidamento | N15: 11° anno di affidamento | O15: 12° anno di affidamento | P15: 13° anno di affidamento | Q15: 14° anno di affidamento | R15: 15° anno di affidamento
B16: =+IN_Anagrafica!F18 -> 0 | C16: =+IN_Anagrafica!D18 -> 0
B17: =+IN_Anagrafica!F19 -> 0 | C17: =+IN_Anagrafica!D19 -> 0
B18: =+IN_Anagrafica!F20 -> 0 | C18: =+IN_Anagrafica!D20 -> 0
B19: =+IN_Anagrafica!F21 -> 0 | C19: =+IN_Anagrafica!D21 -> 0
B20: =+IN_Anagrafica!F22 -> 0 | C20: =+IN_Anagrafica!D22 -> 0
B21: =+IN_Anagrafica!F23 -> 0 | C21: =+IN_Anagrafica!D23 -> 0
B22: =+IN_Anagrafica!F24 -> 0 | C22: =+IN_Anagrafica!D24 -> 0
B23: =+IN_Anagrafica!F25 -> 0 | C23: =+IN_Anagrafica!D25 -> 0
B24: =+IN_Anagrafica!F26 -> 0 | C24: =+IN_Anagrafica!D26 -> 0
B25: =+IN_Anagrafica!F27 -> 0 | C25: =+IN_Anagrafica!D27 -> 0
B26: =+IN_Anagrafica!F28 -> 0 | C26: =+IN_Anagrafica!D28 -> 0
B27: =+IN_Anagrafica!F29 -> 0 | C27: =+IN_Anagrafica!D29 -> 0
... B86: =+IN_Anagrafica!F88 -> 0 | C86: =+IN_Anagrafica!D88 -> 0
B87: =+IN_Anagrafica!F151 -> 0 | C87: =+IN_Anagrafica!D151 -> 0
B88: =+IN_Anagrafica!F152 -> 0 | C88: =+IN_Anagrafica!D152 -> 0
B89: =+IN_Anagrafica!F153 -> 0 | C89: =+IN_Anagrafica!D153 -> 0
B90: =+IN_Anagrafica!F154 -> 0 | C90: =+IN_Anagrafica!D154 -> 0
B91: =+IN_Anagrafica!F155 -> 0 | C91: =+IN_Anagrafica!D155 -> 0
B92: =+IN_Anagrafica!F156 -> 0 | C92: =+IN_Anagrafica!D156 -> 0
B93: =+IN_Anagrafica!F157 -> 0 | C93: =+IN_Anagrafica!D157 -> 0
B94: =+IN_Anagrafica!F158 -> 0 | C94: =+IN_Anagrafica!D158 -> 0
B95: =+IN_Anagrafica!F159 -> 0 | C95: =+IN_Anagrafica!D159 -> 0
B96: =+IN_Anagrafica!F160 -> 0 | C96: =+IN_Anagrafica!D160 -> 0
B97: =+IN_Anagrafica!F161 -> 0 | C97: =+IN_Anagrafica!D161 -> 0
B98: =+IN_Anagrafica!F162 -> 0 | C98: =+IN_Anagrafica!D162 -> 0
... B100: =+IN_Anagrafica!F164 -> 0 | C100: =+IN_Anagrafica!D164 -> 0

Sheet XregAmbitoTariffario
B1: Coefficiente di produttività Xreg- Dettaglio per ambito tariffario
D3: =+PianoTariffarioAffidamento!F4 -> 2026 | E3: =+PianoTariffarioAffidamento!G4 -> 2027 | F3: =+PianoTariffarioAffidamento!H4 -> 2028 | G3: =+PianoTariffarioAffidamento!I4 -> 2029 | H3: =+PianoTariffarioAffidamento!J4 -> 2030 | I3: =+PianoTariffarioAffidamento!K4 -> 2031 | J3: =+PianoTariffarioAffidamento!L4 -> 2032 | K3: =+PianoTariffarioAffidamento!M4 -> 2033 | ... R3: =+PianoTariffarioAffidamento!T4 -> 2040
C5: Bacino di affidamento | D5: 1° anno di affidamento | E5: 2° anno di affidamento | F5: 3° anno di affidamento | G5: 4° anno di affidamento | H5: 5° anno di affidamento | I5: 6° anno di affidamento | J5: 7° anno di affidamento | K5: 8° anno di affidamento | L5: 9° anno di affidamento | M5: 10° anno di affidamento | N5: 11° anno di affidamento | O5: 12° anno di affidamento | P5: 13° anno di affidamento | Q5: 14° anno di affidamento | R5: 15° anno di affidamento
C6: Xreg bacino di affidamento | D6: =+PianoTariffarioAffidamento!F49 -> 0 | E6: =+PianoTariffarioAffidamento!G49 -> 0 | F6: =+PianoTariffarioAffidamento!H49 -> 0 | G6: =+PianoTariffarioAffidamento!I49 -> 0 | H6: =+PianoTariffarioAffidamento!J49 -> 0 | I6: =+PianoTariffarioAffidamento!K49 -> 0 | J6: =+PianoTariffarioAffidamento!L49 -> 0 | K6: =+PianoTariffarioAffidamento!M49 -> 0 | ... R6: =+PianoTariffarioAffidamento!T49 -> 0
C8: Valore Medio | D8: =SUMPRODUCT(Tab_Xcom[1° anno di affidamento],Tab_Ta_1[1° anno di affidamento])/'Ta-1_AmbitoTariffario'!D8 -> #DIV/0! | E8: =SUMPRODUCT(Tab_Xcom[1° anno di affidamento],Tab_Ta_1[1° anno di affidamento])/'Ta-1_AmbitoTariffario'!E8 -> #DIV/0! | F8: =SUMPRODUCT(Tab_Xcom[1° anno di affidamento],Tab_Ta_1[1° anno di affidamento])/'Ta-1_AmbitoTariffario'!F8 -> #DIV/0! | G8: =SUMPRODUCT(Tab_Xcom[1° anno di affidamento],Tab_Ta_1[1° anno di affidamento])/'Ta-1_AmbitoTariffario'!G8 -> #DIV/0! | H8: =SUMPRODUCT(Tab_Xcom[1° anno di affidamento],Tab_Ta_1[1° anno di affidamento])/'Ta-1_AmbitoTariffario'!H8 -> #DIV/0! | I8: =SUMPRODUCT(Tab_Xcom[1° anno di affidamento],Tab_Ta_1[1° anno di affidamento])/'Ta-1_AmbitoTariffario'!I8 -> #DIV/0! | J8: =SUMPRODUCT(Tab_Xcom[1° anno di affidamento],Tab_Ta_1[1° anno di affidamento])/'Ta-1_AmbitoTariffario'!J8 -> #DIV/0! | K8: =SUMPRODUCT(Tab_Xcom[1° anno di affidamento],Tab_Ta_1[1° anno di affidamento])/'Ta-1_AmbitoTariffario'!K8 -> #DIV/0! | ... R8: =SUMPRODUCT(Tab_Xcom[1° anno di affidamento],Tab_Ta_1[1° anno di affidamento])/'Ta-1_AmbitoTariffario'!R8 -> #DIV/0!
C10: Per aggiungere le righe si può trascinare in basso l'ultima cella dell'ultima colonna a destra della tabella, o inserire i valori dopo l'ultima riga
C11: In fase di compilazione, assicurarsi che il numero di righe della Tabella sia pari al numero di righe della Tabella presente nel foglio Ta-1_AmbitoTariffario
C13: Tabella Xreg per Ambito Tariffario | D13: =+D3 -> 2026 | E13: =+E3 -> 2027 | F13: =+F3 -> 2028 | G13: =+G3 -> 2029 | H13: =+H3 -> 2030 | I13: =+I3 -> 2031 | J13: =+J3 -> 2032 | K13: =+K3 -> 2033 | ... R13: =+R3 -> 2040
B15: Codice ISTAT | C15: Comune | D15: 1° anno di affidamento | E15: 2° anno di affidamento | F15: 3° anno di affidamento | G15: 4° anno di affidamento | H15: 5° anno di affidamento | I15: 6° anno di affidamento | J15: 7° anno di affidamento | K15: 8° anno di affidamento | L15: 9° anno di affidamento | M15: 10° anno di affidamento | N15: 11° anno di affidamento | O15: 12° anno di affidamento | P15: 13° anno di affidamento | Q15: 14° anno di affidamento | R15: 15° anno di affidamento
B16: =+IN_Anagrafica!F18 -> 0 | C16: =+IN_Anagrafica!D18 -> 0
B17: =+IN_Anagrafica!F19 -> 0 | C17: =+IN_Anagrafica!D19 -> 0
B18: =+IN_Anagrafica!F20 -> 0 | C18: =+IN_Anagrafica!D20 -> 0
B19: =+IN_Anagrafica!F21 -> 0 | C19: =+IN_Anagrafica!D21 -> 0
B20: =+IN_Anagrafica!F22 -> 0 | C20: =+IN_Anagrafica!D22 -> 0
B21: =+IN_Anagrafica!F23 -> 0 | C21: =+IN_Anagrafica!D23 -> 0
B22: =+IN_Anagrafica!F24 -> 0 | C22: =+IN_Anagrafica!D24 -> 0
B23: =+IN_Anagrafica!F25 -> 0 | C23: =+IN_Anagrafica!D25 -> 0
B24: =+IN_Anagrafica!F26 -> 0 | C24: =+IN_Anagrafica!D26 -> 0
B25: =+IN_Anagrafica!F27 -> 0 | C25: =+IN_Anagrafica!D27 -> 0
B26: =+IN_Anagrafica!F28 -> 0 | C26: =+IN_Anagrafica!D28 -> 0
B27: =+IN_Anagrafica!F29 -> 0 | C27: =+IN_Anagrafica!D29 -> 0
... B86: =+IN_Anagrafica!F88 -> 0 | C86: =+IN_Anagrafica!D88 -> 0
B87: =+IN_Anagrafica!F151 -> 0 | C87: =+IN_Anagrafica!D151 -> 0
B88: =+IN_Anagrafica!F152 -> 0 | C88: =+IN_Anagrafica!D152 -> 0
B89: =+IN_Anagrafica!F153 -> 0 | C89: =+IN_Anagrafica!D153 -> 0
B90: =+IN_Anagrafica!F154 -> 0 | C90: =+IN_Anagrafica!D154 -> 0
B91: =+IN_Anagrafica!F155 -> 0 | C91: =+IN_Anagrafica!D155 -> 0
B92: =+IN_Anagrafica!F156 -> 0 | C92: =+IN_Anagrafica!D156 -> 0
B93: =+IN_Anagrafica!F157 -> 0 | C93: =+IN_Anagrafica!D157 -> 0
B94: =+IN_Anagrafica!F158 -> 0 | C94: =+IN_Anagrafica!D158 -> 0
B95: =+IN_Anagrafica!F159 -> 0 | C95: =+IN_Anagrafica!D159 -> 0
B96: =+IN_Anagrafica!F160 -> 0 | C96: =+IN_Anagrafica!D160 -> 0
B97: =+IN_Anagrafica!F161 -> 0 | C97: =+IN_Anagrafica!D161 -> 0
B98: =+IN_Anagrafica!F162 -> 0 | C98: =+IN_Anagrafica!D162 -> 0
... B100: =+IN_Anagrafica!F164 -> 0 | C100: =+IN_Anagrafica!D164 -> 0

Sheet XcomAmbitoTariffario
B1: Coefficiente di produttività Xcom- Dettaglio per Ambito Tariffario
D3: =+PianoTariffarioAffidamento!F4 -> 2026 | E3: =+PianoTariffarioAffidamento!G4 -> 2027 | F3: =+PianoTariffarioAffidamento!H4 -> 2028 | G3: =+PianoTariffarioAffidamento!I4 -> 2029 | H3: =+PianoTariffarioAffidamento!J4 -> 2030 | I3: =+PianoTariffarioAffidamento!K4 -> 2031 | J3: =+PianoTariffarioAffidamento!L4 -> 2032 | K3: =+PianoTariffarioAffidamento!M4 -> 2033 | ... R3: =+PianoTariffarioAffidamento!T4 -> 2040
C5: Bacino di affidamento | D5: 1° anno di affidamento | E5: 2° anno di affidamento | F5: 3° anno di affidamento | G5: 4° anno di affidamento | H5: 5° anno di affidamento | I5: 6° anno di affidamento | J5: 7° anno di affidamento | K5: 8° anno di affidamento | L5: 9° anno di affidamento | M5: 10° anno di affidamento | N5: 11° anno di affidamento | O5: 12° anno di affidamento | P5: 13° anno di affidamento | Q5: 14° anno di affidamento | R5: 15° anno di affidamento
C6: Xcom bacino di affidamento | D6: =+PianoTariffarioAffidamento!F50 -> 0 | E6: =+PianoTariffarioAffidamento!G50 -> 0 | F6: =+PianoTariffarioAffidamento!H50 -> 0 | G6: =+PianoTariffarioAffidamento!I50 -> 0 | H6: =+PianoTariffarioAffidamento!J50 -> 0 | I6: =+PianoTariffarioAffidamento!K50 -> 0 | J6: =+PianoTariffarioAffidamento!L50 -> 0 | K6: =+PianoTariffarioAffidamento!M50 -> 0 | ... R6: =+PianoTariffarioAffidamento!T50 -> 0
C8: Valore Medio | D8: =SUMPRODUCT(Tab_Xcom[1° anno di affidamento],Tab_Ta_1[1° anno di affidamento])/'Ta-1_AmbitoTariffario'!D8 -> #DIV/0! | E8: =SUMPRODUCT(Tab_Xcom[1° anno di affidamento],Tab_Ta_1[1° anno di affidamento])/'Ta-1_AmbitoTariffario'!E8 -> #DIV/0! | F8: =SUMPRODUCT(Tab_Xcom[1° anno di affidamento],Tab_Ta_1[1° anno di affidamento])/'Ta-1_AmbitoTariffario'!F8 -> #DIV/0! | G8: =SUMPRODUCT(Tab_Xcom[1° anno di affidamento],Tab_Ta_1[1° anno di affidamento])/'Ta-1_AmbitoTariffario'!G8 -> #DIV/0! | H8: =SUMPRODUCT(Tab_Xcom[1° anno di affidamento],Tab_Ta_1[1° anno di affidamento])/'Ta-1_AmbitoTariffario'!H8 -> #DIV/0! | I8: =SUMPRODUCT(Tab_Xcom[1° anno di affidamento],Tab_Ta_1[1° anno di affidamento])/'Ta-1_AmbitoTariffario'!I8 -> #DIV/0! | J8: =SUMPRODUCT(Tab_Xcom[1° anno di affidamento],Tab_Ta_1[1° anno di affidamento])/'Ta-1_AmbitoTariffario'!J8 -> #DIV/0! | K8: =SUMPRODUCT(Tab_Xcom[1° anno di affidamento],Tab_Ta_1[1° anno di affidamento])/'Ta-1_AmbitoTariffario'!K8 -> #DIV/0! | ... R8: =SUMPRODUCT(Tab_Xcom[1° anno di affidamento],Tab_Ta_1[1° anno di affidamento])/'Ta-1_AmbitoTariffario'!R8 -> #DIV/0!
C10: Per aggiungere le righe si può trascinare in basso l'ultima cella dell'ultima colonna a destra della tabella, o inserire i valori dopo l'ultima riga
C11: In fase di compilazione, assicurarsi che il numero di righe della Tabella sia pari al numero di righe della Tabella presente nel foglio Ta-1_AmbitoTariffario
C13: Tabella Xcom per ambito tariffario | D13: =+D3 -> 2026 | E13: =+E3 -> 2027 | F13: =+F3 -> 2028 | G13: =+G3 -> 2029 | H13: =+H3 -> 2030 | I13: =+I3 -> 2031 | J13: =+J3 -> 2032 | K13: =+K3 -> 2033 | ... R13: =+R3 -> 2040
B15: Codice ISTAT | C15: Comune | D15: 1° anno di affidamento | E15: 2° anno di affidamento | F15: 3° anno di affidamento | G15: 4° anno di affidamento | H15: 5° anno di affidamento | I15: 6° anno di affidamento | J15: 7° anno di affidamento | K15: 8° anno di affidamento | L15: 9° anno di affidamento | M15: 10° anno di affidamento | N15: 11° anno di affidamento | O15: 12° anno di affidamento | P15: 13° anno di affidamento | Q15: 14° anno di affidamento | R15: 15° anno di affidamento
B16: =+IN_Anagrafica!F18 -> 0 | C16: =+IN_Anagrafica!D18 -> 0
B17: =+IN_Anagrafica!F19 -> 0 | C17: =+IN_Anagrafica!D19 -> 0
B18: =+IN_Anagrafica!F20 -> 0 | C18: =+IN_Anagrafica!D20 -> 0
B19: =+IN_Anagrafica!F21 -> 0 | C19: =+IN_Anagrafica!D21 -> 0
B20: =+IN_Anagrafica!F22 -> 0 | C20: =+IN_Anagrafica!D22 -> 0
B21: =+IN_Anagrafica!F23 -> 0 | C21: =+IN_Anagrafica!D23 -> 0
B22: =+IN_Anagrafica!F24 -> 0 | C22: =+IN_Anagrafica!D24 -> 0
B23: =+IN_Anagrafica!F25 -> 0 | C23: =+IN_Anagrafica!D25 -> 0
B24: =+IN_Anagrafica!F26 -> 0 | C24: =+IN_Anagrafica!D26 -> 0
B25: =+IN_Anagrafica!F27 -> 0 | C25: =+IN_Anagrafica!D27 -> 0
B26: =+IN_Anagrafica!F28 -> 0 | C26: =+IN_Anagrafica!D28 -> 0
B27: =+IN_Anagrafica!F29 -> 0 | C27: =+IN_Anagrafica!D29 -> 0
... B86: =+IN_Anagrafica!F88 -> 0 | C86: =+IN_Anagrafica!D88 -> 0
B87: =+IN_Anagrafica!F151 -> 0 | C87: =+IN_Anagrafica!D151 -> 0
B88: =+IN_Anagrafica!F152 -> 0 | C88: =+IN_Anagrafica!D152 -> 0
B89: =+IN_Anagrafica!F153 -> 0 | C89: =+IN_Anagrafica!D153 -> 0
B90: =+IN_Anagrafica!F154 -> 0 | C90: =+IN_Anagrafica!D154 -> 0
B91: =+IN_Anagrafica!F155 -> 0 | C91: =+IN_Anagrafica!D155 -> 0
B92: =+IN_Anagrafica!F156 -> 0 | C92: =+IN_Anagrafica!D156 -> 0
B93: =+IN_Anagrafica!F157 -> 0 | C93: =+IN_Anagrafica!D157 -> 0
B94: =+IN_Anagrafica!F158 -> 0 | C94: =+IN_Anagrafica!D158 -> 0
B95: =+IN_Anagrafica!F159 -> 0 | C95: =+IN_Anagrafica!D159 -> 0
B96: =+IN_Anagrafica!F160 -> 0 | C96: =+IN_Anagrafica!D160 -> 0
B97: =+IN_Anagrafica!F161 -> 0 | C97: =+IN_Anagrafica!D161 -> 0
B98: =+IN_Anagrafica!F162 -> 0 | C98: =+IN_Anagrafica!D162 -> 0
... B100: =+IN_Anagrafica!F164 -> 0 | C100: =+IN_Anagrafica!D164 -> 0

Sheet KregAmbitoTariffario
B1: Coefficiente di potenziamento Kreg - Dettaglio per ambito tariffario
D3: =+PianoTariffarioAffidamento!F4 -> 2026 | E3: =+PianoTariffarioAffidamento!G4 -> 2027 | F3: =+PianoTariffarioAffidamento!H4 -> 2028 | G3: =+PianoTariffarioAffidamento!I4 -> 2029 | H3: =+PianoTariffarioAffidamento!J4 -> 2030 | I3: =+PianoTariffarioAffidamento!K4 -> 2031 | J3: =+PianoTariffarioAffidamento!L4 -> 2032 | K3: =+PianoTariffarioAffidamento!M4 -> 2033 | ... R3: =+PianoTariffarioAffidamento!T4 -> 2040
C5: Bacino di affidamento | D5: 1° anno di affidamento | E5: 2° anno di affidamento | F5: 3° anno di affidamento | G5: 4° anno di affidamento | H5: 5° anno di affidamento | I5: 6° anno di affidamento | J5: 7° anno di affidamento | K5: 8° anno di affidamento | L5: 9° anno di affidamento | M5: 10° anno di affidamento | N5: 11° anno di affidamento | O5: 12° anno di affidamento | P5: 13° anno di affidamento | Q5: 14° anno di affidamento | R5: 15° anno di affidamento
C6: Kreg bacino di affidamento | D6: =+PianoTariffarioAffidamento!F53 -> 0 | E6: =+PianoTariffarioAffidamento!G53 -> 0 | F6: =+PianoTariffarioAffidamento!H53 -> 0 | G6: =+PianoTariffarioAffidamento!I53 -> 0 | H6: =+PianoTariffarioAffidamento!J53 -> 0 | I6: =+PianoTariffarioAffidamento!K53 -> 0 | J6: =+PianoTariffarioAffidamento!L53 -> 0 | K6: =+PianoTariffarioAffidamento!M53 -> 0 | ... R6: =+PianoTariffarioAffidamento!T53 -> 0
C8: Valore Medio | D8: =SUMPRODUCT(Tab_Kreg[1° anno di affidamento],Tab_Ta_1[1° anno di affidamento])/'Ta-1_AmbitoTariffario'!D8 -> #DIV/0! | E8: =SUMPRODUCT(Tab_Kreg[1° anno di affidamento],Tab_Ta_1[1° anno di affidamento])/'Ta-1_AmbitoTariffario'!E8 -> #DIV/0! | F8: =SUMPRODUCT(Tab_Kreg[1° anno di affidamento],Tab_Ta_1[1° anno di affidamento])/'Ta-1_AmbitoTariffario'!F8 -> #DIV/0! | G8: =SUMPRODUCT(Tab_Kreg[1° anno di affidamento],Tab_Ta_1[1° anno di affidamento])/'Ta-1_AmbitoTariffario'!G8 -> #DIV/0! | H8: =SUMPRODUCT(Tab_Kreg[1° anno di affidamento],Tab_Ta_1[1° anno di affidamento])/'Ta-1_AmbitoTariffario'!H8 -> #DIV/0! | I8: =SUMPRODUCT(Tab_Kreg[1° anno di affidamento],Tab_Ta_1[1° anno di affidamento])/'Ta-1_AmbitoTariffario'!I8 -> #DIV/0! | J8: =SUMPRODUCT(Tab_Kreg[1° anno di affidamento],Tab_Ta_1[1° anno di affidamento])/'Ta-1_AmbitoTariffario'!J8 -> #DIV/0! | K8: =SUMPRODUCT(Tab_Kreg[1° anno di affidamento],Tab_Ta_1[1° anno di affidamento])/'Ta-1_AmbitoTariffario'!K8 -> #DIV/0! | ... R8: =SUMPRODUCT(Tab_Kreg[1° anno di affidamento],Tab_Ta_1[1° anno di affidamento])/'Ta-1_AmbitoTariffario'!R8 -> #DIV/0!
C10: Per aggiungere le righe si può trascinare in basso l'ultima cella dell'ultima colonna a destra della tabella, o inserire i valori dopo l'ultima riga
C11: In fase di compilazione, assicurarsi che il numero di righe della Tabella sia pari al numero di righe della Tabella presente nel foglio Ta-1_AmbitoTariffario
C13: Tabella Kreg per ambito tariffario | D13: =+D3 -> 2026 | E13: =+E3 -> 2027 | F13: =+F3 -> 2028 | G13: =+G3 -> 2029 | H13: =+H3 -> 2030 | I13: =+I3 -> 2031 | J13: =+J3 -> 2032 | K13: =+K3 -> 2033 | ... R13: =+R3 -> 2040
B15: Codice ISTAT | C15: Comune | D15: 1° anno di affidamento | E15: 2° anno di affidamento | F15: 3° anno di affidamento | G15: 4° anno di affidamento | H15: 5° anno di affidamento | I15: 6° anno di affidamento | J15: 7° anno di affidamento | K15: 8° anno di affidamento | L15: 9° anno di affidamento | M15: 10° anno di affidamento | N15: 11° anno di affidamento | O15: 12° anno di affidamento | P15: 13° anno di affidamento | Q15: 14° anno di affidamento | R15: 15° anno di affidamento
B16: =+IN_Anagrafica!F18 -> 0 | C16: =+IN_Anagrafica!D18 -> 0
B17: =+IN_Anagrafica!F19 -> 0 | C17: =+IN_Anagrafica!D19 -> 0
B18: =+IN_Anagrafica!F20 -> 0 | C18: =+IN_Anagrafica!D20 -> 0
B19: =+IN_Anagrafica!F21 -> 0 | C19: =+IN_Anagrafica!D21 -> 0
B20: =+IN_Anagrafica!F22 -> 0 | C20: =+IN_Anagrafica!D22 -> 0
B21: =+IN_Anagrafica!F23 -> 0 | C21: =+IN_Anagrafica!D23 -> 0
B22: =+IN_Anagrafica!F24 -> 0 | C22: =+IN_Anagrafica!D24 -> 0
B23: =+IN_Anagrafica!F25 -> 0 | C23: =+IN_Anagrafica!D25 -> 0
B24: =+IN_Anagrafica!F26 -> 0 | C24: =+IN_Anagrafica!D26 -> 0
B25: =+IN_Anagrafica!F27 -> 0 | C25: =+IN_Anagrafica!D27 -> 0
B26: =+IN_Anagrafica!F28 -> 0 | C26: =+IN_Anagrafica!D28 -> 0
B27: =+IN_Anagrafica!F29 -> 0 | C27: =+IN_Anagrafica!D29 -> 0
... B86: =+IN_Anagrafica!F88 -> 0 | C86: =+IN_Anagrafica!D88 -> 0
B87: =+IN_Anagrafica!F151 -> 0 | C87: =+IN_Anagrafica!D151 -> 0
B88: =+IN_Anagrafica!F152 -> 0 | C88: =+IN_Anagrafica!D152 -> 0
B89: =+IN_Anagrafica!F153 -> 0 | C89: =+IN_Anagrafica!D153 -> 0
B90: =+IN_Anagrafica!F154 -> 0 | C90: =+IN_Anagrafica!D154 -> 0
B91: =+IN_Anagrafica!F155 -> 0 | C91: =+IN_Anagrafica!D155 -> 0
B92: =+IN_Anagrafica!F156 -> 0 | C92: =+IN_Anagrafica!D156 -> 0
B93: =+IN_Anagrafica!F157 -> 0 | C93: =+IN_Anagrafica!D157 -> 0
B94: =+IN_Anagrafica!F158 -> 0 | C94: =+IN_Anagrafica!D158 -> 0
B95: =+IN_Anagrafica!F159 -> 0 | C95: =+IN_Anagrafica!D159 -> 0
B96: =+IN_Anagrafica!F160 -> 0 | C96: =+IN_Anagrafica!D160 -> 0
B97: =+IN_Anagrafica!F161 -> 0 | C97: =+IN_Anagrafica!D161 -> 0
B98: =+IN_Anagrafica!F162 -> 0 | C98: =+IN_Anagrafica!D162 -> 0
... B100: =+IN_Anagrafica!F164 -> 0 | C100: =+IN_Anagrafica!D164 -> 0

Sheet Kcom_AmbitoTariffario
B1: Coefficiente di potenziamento Kcom - Dettaglio per ambito tariffario
D3: =+PianoTariffarioAffidamento!F4 -> 2026 | E3: =+PianoTariffarioAffidamento!G4 -> 2027 | F3: =+PianoTariffarioAffidamento!H4 -> 2028 | G3: =+PianoTariffarioAffidamento!I4 -> 2029 | H3: =+PianoTariffarioAffidamento!J4 -> 2030 | I3: =+PianoTariffarioAffidamento!K4 -> 2031 | J3: =+PianoTariffarioAffidamento!L4 -> 2032 | K3: =+PianoTariffarioAffidamento!M4 -> 2033 | ... R3: =+PianoTariffarioAffidamento!T4 -> 2040
C5: Bacino di affidamento | D5: 1° anno di affidamento | E5: 2° anno di affidamento | F5: 3° anno di affidamento | G5: 4° anno di affidamento | H5: 5° anno di affidamento | I5: 6° anno di affidamento | J5: 7° anno di affidamento | K5: 8° anno di affidamento | L5: 9° anno di affidamento | M5: 10° anno di affidamento | N5: 11° anno di affidamento | O5: 12° anno di affidamento | P5: 13° anno di affidamento | Q5: 14° anno di affidamento | R5: 15° anno di affidamento
C6: Kcom bacino di affidamento | D6: =+PianoTariffarioAffidamento!F52 -> 0 | E6: =+PianoTariffarioAffidamento!G52 -> 0 | F6: =+PianoTariffarioAffidamento!H52 -> 0 | G6: =+PianoTariffarioAffidamento!I52 -> 0 | H6: =+PianoTariffarioAffidamento!J52 -> 0 | I6: =+PianoTariffarioAffidamento!K52 -> 0 | J6: =+PianoTariffarioAffidamento!L52 -> 0 | K6: =+PianoTariffarioAffidamento!M52 -> 0 | ... R6: =+PianoTariffarioAffidamento!T52 -> 0
C8: Valore Medio | D8: =SUMPRODUCT(Tab_Kcom[1° anno di affidamento],Tab_Ta_1[1° anno di affidamento])/'Ta-1_AmbitoTariffario'!D8 -> #DIV/0! | E8: =SUMPRODUCT(Tab_Kcom[1° anno di affidamento],Tab_Ta_1[1° anno di affidamento])/'Ta-1_AmbitoTariffario'!E8 -> #DIV/0! | F8: =SUMPRODUCT(Tab_Kcom[1° anno di affidamento],Tab_Ta_1[1° anno di affidamento])/'Ta-1_AmbitoTariffario'!F8 -> #DIV/0! | G8: =SUMPRODUCT(Tab_Kcom[1° anno di affidamento],Tab_Ta_1[1° anno di affidamento])/'Ta-1_AmbitoTariffario'!G8 -> #DIV/0! | H8: =SUMPRODUCT(Tab_Kcom[1° anno di affidamento],Tab_Ta_1[1° anno di affidamento])/'Ta-1_AmbitoTariffario'!H8 -> #DIV/0! | I8: =SUMPRODUCT(Tab_Kcom[1° anno di affidamento],Tab_Ta_1[1° anno di affidamento])/'Ta-1_AmbitoTariffario'!I8 -> #DIV/0! | J8: =SUMPRODUCT(Tab_Kcom[1° anno di affidamento],Tab_Ta_1[1° anno di affidamento])/'Ta-1_AmbitoTariffario'!J8 -> #DIV/0! | K8: =SUMPRODUCT(Tab_Kcom[1° anno di affidamento],Tab_Ta_1[1° anno di affidamento])/'Ta-1_AmbitoTariffario'!K8 -> #DIV/0! | ... R8: =SUMPRODUCT(Tab_Kcom[1° anno di affidamento],Tab_Ta_1[1° anno di affidamento])/'Ta-1_AmbitoTariffario'!R8 -> #DIV/0!
C10: Per aggiungere le righe si può trascinare in basso l'ultima cella dell'ultima colonna a destra della tabella, o inserire i valori dopo l'ultima riga
C11: In fase di compilazione, assicurarsi che il numero di righe della Tabella sia pari al numero di righe della Tabella presente nel foglio Ta-1_AmbitoTariffario
C13: Tabella Kcom per ambito tariffario | D13: =+D3 -> 2026 | E13: =+E3 -> 2027 | F13: =+F3 -> 2028 | G13: =+G3 -> 2029 | H13: =+H3 -> 2030 | I13: =+I3 -> 2031 | J13: =+J3 -> 2032 | K13: =+K3 -> 2033 | ... R13: =+R3 -> 2040
B15: Codice ISTAT | C15: Comune | D15: 1° anno di affidamento | E15: 2° anno di affidamento | F15: 3° anno di affidamento | G15: 4° anno di affidamento | H15: 5° anno di affidamento | I15: 6° anno di affidamento | J15: 7° anno di affidamento | K15: 8° anno di affidamento | L15: 9° anno di affidamento | M15: 10° anno di affidamento | N15: 11° anno di affidamento | O15: 12° anno di affidamento | P15: 13° anno di affidamento | Q15: 14° anno di affidamento | R15: 15° anno di affidamento
B16: =+IN_Anagrafica!F18 -> 0 | C16: =+IN_Anagrafica!D18 -> 0
B17: =+IN_Anagrafica!F19 -> 0 | C17: =+IN_Anagrafica!D19 -> 0
B18: =+IN_Anagrafica!F20 -> 0 | C18: =+IN_Anagrafica!D20 -> 0
B19: =+IN_Anagrafica!F21 -> 0 | C19: =+IN_Anagrafica!D21 -> 0
B20: =+IN_Anagrafica!F22 -> 0 | C20: =+IN_Anagrafica!D22 -> 0
B21: =+IN_Anagrafica!F23 -> 0 | C21: =+IN_Anagrafica!D23 -> 0
B22: =+IN_Anagrafica!F24 -> 0 | C22: =+IN_Anagrafica!D24 -> 0
B23: =+IN_Anagrafica!F25 -> 0 | C23: =+IN_Anagrafica!D25 -> 0
B24: =+IN_Anagrafica!F26 -> 0 | C24: =+IN_Anagrafica!D26 -> 0
B25: =+IN_Anagrafica!F27 -> 0 | C25: =+IN_Anagrafica!D27 -> 0
B26: =+IN_Anagrafica!F28 -> 0 | C26: =+IN_Anagrafica!D28 -> 0
B27: =+IN_Anagrafica!F29 -> 0 | C27: =+IN_Anagrafica!D29 -> 0
... B86: =+IN_Anagrafica!F88 -> 0 | C86: =+IN_Anagrafica!D88 -> 0
B87: =+IN_Anagrafica!F151 -> 0 | C87: =+IN_Anagrafica!D151 -> 0
B88: =+IN_Anagrafica!F152 -> 0 | C88: =+IN_Anagrafica!D152 -> 0
B89: =+IN_Anagrafica!F153 -> 0 | C89: =+IN_Anagrafica!D153 -> 0
B90: =+IN_Anagrafica!F154 -> 0 | C90: =+IN_Anagrafica!D154 -> 0
B91: =+IN_Anagrafica!F155 -> 0 | C91: =+IN_Anagrafica!D155 -> 0
B92: =+IN_Anagrafica!F156 -> 0 | C92: =+IN_Anagrafica!D156 -> 0
B93: =+IN_Anagrafica!F157 -> 0 | C93: =+IN_Anagrafica!D157 -> 0
B94: =+IN_Anagrafica!F158 -> 0 | C94: =+IN_Anagrafica!D158 -> 0
B95: =+IN_Anagrafica!F159 -> 0 | C95: =+IN_Anagrafica!D159 -> 0
B96: =+IN_Anagrafica!F160 -> 0 | C96: =+IN_Anagrafica!D160 -> 0
B97: =+IN_Anagrafica!F161 -> 0 | C97: =+IN_Anagrafica!D161 -> 0
B98: =+IN_Anagrafica!F162 -> 0 | C98: =+IN_Anagrafica!D162 -> 0
... B100: =+IN_Anagrafica!F164 -> 0 | C100: =+IN_Anagrafica!D164 -> 0

Sheet CRI_AmbitoTariffario
B1: Coefficiente CRI - Dettaglio per ambito tariffario
D3: =+PianoTariffarioAffidamento!F4 -> 2026 | E3: =+PianoTariffarioAffidamento!G4 -> 2027 | F3: =+PianoTariffarioAffidamento!H4 -> 2028 | G3: =+PianoTariffarioAffidamento!I4 -> 2029 | H3: =+PianoTariffarioAffidamento!J4 -> 2030 | I3: =+PianoTariffarioAffidamento!K4 -> 2031 | J3: =+PianoTariffarioAffidamento!L4 -> 2032 | K3: =+PianoTariffarioAffidamento!M4 -> 2033 | ... R3: =+PianoTariffarioAffidamento!T4 -> 2040
C5: Bacino di affidamento | D5: 1° anno di affidamento | E5: 2° anno di affidamento | F5: 3° anno di affidamento | G5: 4° anno di affidamento | H5: 5° anno di affidamento | I5: 6° anno di affidamento | J5: 7° anno di affidamento | K5: 8° anno di affidamento | L5: 9° anno di affidamento | M5: 10° anno di affidamento | N5: 11° anno di affidamento | O5: 12° anno di affidamento | P5: 13° anno di affidamento | Q5: 14° anno di affidamento | R5: 15° anno di affidamento
C6: CRI bacino di affidamento | D6: =+PianoTariffarioAffidamento!F55 -> 0 | E6: =+PianoTariffarioAffidamento!G55 -> 0 | F6: =+PianoTariffarioAffidamento!H55 -> 0 | G6: =+PianoTariffarioAffidamento!I55 -> 0 | H6: =+PianoTariffarioAffidamento!J55 -> 0 | I6: =+PianoTariffarioAffidamento!K55 -> 0 | J6: =+PianoTariffarioAffidamento!L55 -> 0 | K6: =+PianoTariffarioAffidamento!M55 -> 0 | ... R6: =+PianoTariffarioAffidamento!T55 -> 0
C8: Valore Medio | D8: =SUMPRODUCT(Tab_Kcom19[1° anno di affidamento],Tab_Ta_1[1° anno di affidamento])/'Ta-1_AmbitoTariffario'!D8 -> #DIV/0! | E8: =SUMPRODUCT(Tab_Kcom19[2° anno di affidamento],Tab_Ta_1[2° anno di affidamento])/'Ta-1_AmbitoTariffario'!E8 -> #DIV/0! | F8: =SUMPRODUCT(Tab_Kcom19[3° anno di affidamento],Tab_Ta_1[3° anno di affidamento])/'Ta-1_AmbitoTariffario'!F8 -> #DIV/0! | G8: =SUMPRODUCT(Tab_Kcom19[4° anno di affidamento],Tab_Ta_1[4° anno di affidamento])/'Ta-1_AmbitoTariffario'!G8 -> #DIV/0! | H8: =SUMPRODUCT(Tab_Kcom19[5° anno di affidamento],Tab_Ta_1[5° anno di affidamento])/'Ta-1_AmbitoTariffario'!H8 -> #DIV/0! | I8: =SUMPRODUCT(Tab_Kcom19[6° anno di affidamento],Tab_Ta_1[6° anno di affidamento])/'Ta-1_AmbitoTariffario'!I8 -> #DIV/0! | J8: =SUMPRODUCT(Tab_Kcom19[7° anno di affidamento],Tab_Ta_1[7° anno di affidamento])/'Ta-1_AmbitoTariffario'!J8 -> #DIV/0! | K8: =SUMPRODUCT(Tab_Kcom19[8° anno di affidamento],Tab_Ta_1[8° anno di affidamento])/'Ta-1_AmbitoTariffario'!K8 -> #DIV/0! | L8: =SUMPRODUCT(Tab_Kcom19[9° anno di affidamento],Tab_Ta_1[9° anno di affidamento])/'Ta-1_AmbitoTariffario'!L8 -> #DIV/0! | M8: =SUMPRODUCT(Tab_Kcom19[10° anno di affidamento],Tab_Ta_1[10° anno di affidamento])/'Ta-1_AmbitoTariffario'!M8 -> #DIV/0! | N8: =SUMPRODUCT(Tab_Kcom19[11° anno di affidamento],Tab_Ta_1[11° anno di affidamento])/'Ta-1_AmbitoTariffario'!N8 -> #DIV/0! | O8: =SUMPRODUCT(Tab_Kcom19[12° anno di affidamento],Tab_Ta_1[12° anno di affidamento])/'Ta-1_AmbitoTariffario'!O8 -> #DIV/0! | P8: =SUMPRODUCT(Tab_Kcom19[13° anno di affidamento],Tab_Ta_1[13° anno di affidamento])/'Ta-1_AmbitoTariffario'!P8 -> #DIV/0! | Q8: =SUMPRODUCT(Tab_Kcom19[14° anno di affidamento],Tab_Ta_1[14° anno di affidamento])/'Ta-1_AmbitoTariffario'!Q8 -> #DIV/0! | R8: =SUMPRODUCT(Tab_Kcom19[15° anno di affidamento],Tab_Ta_1[15° anno di affidamento])/'Ta-1_AmbitoTariffario'!R8 -> #DIV/0!
C10: Per aggiungere le righe si può trascinare in basso l'ultima cella dell'ultima colonna a destra della tabella, o inserire i valori dopo l'ultima riga
C11: In fase di compilazione, assicurarsi che il numero di righe della Tabella sia pari al numero di righe della Tabella presente nel foglio Ta-1_AmbitoTariffario
C13: Tabella CRI per Ambito tariffario | D13: =+D3 -> 2026 | E13: =+E3 -> 2027 | F13: =+F3 -> 2028 | G13: =+G3 -> 2029 | H13: =+H3 -> 2030 | I13: =+I3 -> 2031 | J13: =+J3 -> 2032 | K13: =+K3 -> 2033 | ... R13: =+R3 -> 2040
B15: Codice ISTAT | C15: Comune | D15: 1° anno di affidamento | E15: 2° anno di affidamento | F15: 3° anno di affidamento | G15: 4° anno di affidamento | H15: 5° anno di affidamento | I15: 6° anno di affidamento | J15: 7° anno di affidamento | K15: 8° anno di affidamento | L15: 9° anno di affidamento | M15: 10° anno di affidamento | N15: 11° anno di affidamento | O15: 12° anno di affidamento | P15: 13° anno di affidamento | Q15: 14° anno di affidamento | R15: 15° anno di affidamento
B16: =+IN_Anagrafica!F18 -> 0 | C16: =+IN_Anagrafica!D18 -> 0
B17: =+IN_Anagrafica!F19 -> 0 | C17: =+IN_Anagrafica!D19 -> 0
B18: =+IN_Anagrafica!F20 -> 0 | C18: =+IN_Anagrafica!D20 -> 0
B19: =+IN_Anagrafica!F21 -> 0 | C19: =+IN_Anagrafica!D21 -> 0
B20: =+IN_Anagrafica!F22 -> 0 | C20: =+IN_Anagrafica!D22 -> 0
B21: =+IN_Anagrafica!F23 -> 0 | C21: =+IN_Anagrafica!D23 -> 0
B22: =+IN_Anagrafica!F24 -> 0 | C22: =+IN_Anagrafica!D24 -> 0
B23: =+IN_Anagrafica!F25 -> 0 | C23: =+IN_Anagrafica!D25 -> 0
B24: =+IN_Anagrafica!F26 -> 0 | C24: =+IN_Anagrafica!D26 -> 0
B25: =+IN_Anagrafica!F27 -> 0 | C25: =+IN_Anagrafica!D27 -> 0
B26: =+IN_Anagrafica!F28 -> 0 | C26: =+IN_Anagrafica!D28 -> 0
B27: =+IN_Anagrafica!F29 -> 0 | C27: =+IN_Anagrafica!D29 -> 0
... B86: =+IN_Anagrafica!F88 -> 0 | C86: =+IN_Anagrafica!D88 -> 0
B87: =+IN_Anagrafica!F151 -> 0 | C87: =+IN_Anagrafica!D151 -> 0
B88: =+IN_Anagrafica!F152 -> 0 | C88: =+IN_Anagrafica!D152 -> 0
B89: =+IN_Anagrafica!F153 -> 0 | C89: =+IN_Anagrafica!D153 -> 0
B90: =+IN_Anagrafica!F154 -> 0 | C90: =+IN_Anagrafica!D154 -> 0
B91: =+IN_Anagrafica!F155 -> 0 | C91: =+IN_Anagrafica!D155 -> 0
B92: =+IN_Anagrafica!F156 -> 0 | C92: =+IN_Anagrafica!D156 -> 0
B93: =+IN_Anagrafica!F157 -> 0 | C93: =+IN_Anagrafica!D157 -> 0
B94: =+IN_Anagrafica!F158 -> 0 | C94: =+IN_Anagrafica!D158 -> 0
B95: =+IN_Anagrafica!F159 -> 0 | C95: =+IN_Anagrafica!D159 -> 0
B96: =+IN_Anagrafica!F160 -> 0 | C96: =+IN_Anagrafica!D160 -> 0
B97: =+IN_Anagrafica!F161 -> 0 | C97: =+IN_Anagrafica!D161 -> 0
B98: =+IN_Anagrafica!F162 -> 0 | C98: =+IN_Anagrafica!D162 -> 0
... B100: =+IN_Anagrafica!F164 -> 0 | C100: =+IN_Anagrafica!D164 -> 0

Sheet Conto_Economico
B1: CONTO ECONOMICO
B3: Voce_Conto_Economico | C3: UdM | D3: =+IN_Anagrafica!J9 -> 2026 | E3: =+D3+1 -> 2027 | F3: =+E3+1 -> 2028 | G3: =+F3+1 -> 2029 | H3: =+G3+1 -> 2030 | I3: =+H3+1 -> 2031 | J3: =+I3+1 -> 2032 | K3: =+J3+1 -> 2033 | L3: =+K3+1 -> 2034 | ... R3: =+Q3+1 -> 2040
B4: Ricavi da corrispettivo per SGRU | C4: euro
B5: Ricavi da vendita di materia da mercato | C5: euro
B6: Ricavi da vendita di energia | C6: euro
B7: Ricavi EPR | C7: euro
B8: Ricavi da Attività diverse da quelle relative al servizio integrato di gestione dei rifiuti urbani effettuato nell’ambito di affidamento e riconducibili ad altri servizi effettuati avvalendosi di asset e risorse del servizio del ciclo integrato | C8: euro
B9: Contributi in c/esercizio | C9: euro
B10: Totale Ricavi | C10: euro | D10: =+SUM(D4:D9) -> 0 | E10: =+SUM(E4:E9) -> 0 | F10: =+SUM(F4:F9) -> 0 | G10: =+SUM(G4:G9) -> 0 | H10: =+SUM(H4:H9) -> 0 | I10: =+SUM(I4:I9) -> 0 | J10: =+SUM(J4:J9) -> 0 | K10: =+SUM(K4:K9) -> 0 | ... R10: =+SUM(R4:R9) -> 0
B11: Costi Operativi (al netto del costo del personale) | C11: euro
B12: Costo del personale | C12: euro
B13: Totale Costi | C13: euro | D13: =+D11+D12 -> 0 | E13: =+E11+E12 -> 0 | F13: =+F11+F12 -> 0 | G13: =+G11+G12 -> 0 | H13: =+H11+H12 -> 0 | I13: =+I11+I12 -> 0 | J13: =+J11+J12 -> 0 | K13: =+K11+K12 -> 0 | ... R13: =+R11+R12 -> 0
B14: MOL | C14: euro | D14: =+D10-D13 -> 0 | E14: =+E10-E13 -> 0 | F14: =+F10-F13 -> 0 | G14: =+G10-G13 -> 0 | H14: =+H10-H13 -> 0 | I14: =+I10-I13 -> 0 | J14: =+J10-J13 -> 0 | K14: =+K10-K13 -> 0 | ... R14: =+R10-R13 -> 0
B15: Ammortamenti | C15: euro
B16: Reddito Operativo | C16: euro | D16: =+D14-D15 -> 0 | E16: =+E14-E15 -> 0 | F16: =+F14-F15 -> 0 | G16: =+G14-G15 -> 0 | H16: =+H14-H15 -> 0 | I16: =+I14-I15 -> 0 | J16: =+J14-J15 -> 0 | K16: =+K14-K15 -> 0 | ... R16: =+R14-R15 -> 0
B17: Interessi passivi | C17: euro
B18: Risultato ante imposte | C18: euro | D18: =+D16-D17 -> 0 | E18: =+E16-E17 -> 0 | F18: =+F16-F17 -> 0 | G18: =+G16-G17 -> 0 | H18: =+H16-H17 -> 0 | I18: =+I16-I17 -> 0 | J18: =+J16-J17 -> 0 | K18: =+K16-K17 -> 0 | ... R18: =+R16-R17 -> 0
B19: IRES | C19: euro
B20: IRAP | C20: euro
B21: Totale imposte | C21: euro | D21: =+SUM(D19:D20) -> 0 | E21: =+SUM(E19:E20) -> 0 | F21: =+SUM(F19:F20) -> 0 | G21: =+SUM(G19:G20) -> 0 | H21: =+SUM(H19:H20) -> 0 | I21: =+SUM(I19:I20) -> 0 | J21: =+SUM(J19:J20) -> 0 | K21: =+SUM(K19:K20) -> 0 | ... R21: =+SUM(R19:R20) -> 0
B22: Risultato di esercizio | C22: euro | D22: =+D18-D21 -> 0 | E22: =+E18-E21 -> 0 | F22: =+F18-F21 -> 0 | G22: =+G18-G21 -> 0 | H22: =+H18-H21 -> 0 | I22: =+I18-I21 -> 0 | J22: =+J18-J21 -> 0 | K22: =+K18-K21 -> 0 | ... R22: =+R18-R21 -> 0

Sheet RendicontoFinanziario
B1: RENDICONTO FINANZIARIO
B3: Voce_Rendiconto_Finanziario | C3: UdM | D3: =+IN_Anagrafica!J9 -> 2026 | E3: =+D3+1 -> 2027 | F3: =+E3+1 -> 2028 | G3: =+F3+1 -> 2029 | H3: =+G3+1 -> 2030 | I3: =+H3+1 -> 2031 | J3: =+I3+1 -> 2032 | K3: =+J3+1 -> 2033 | L3: =+K3+1 -> 2034 | ... R3: =+Q3+1 -> 2040
B4: Ricavi da corrispettivo per SGRU | C4: euro
B5: Ricavi da vendita di materia da mercato | C5: euro
B6: Ricavi da vendita di energia | C6: euro
B7: Ricavi EPR | C7: euro
B8: Ricavi da Attività diverse da quelle relative al servizio integrato di gestione dei rifiuti urbani effettuato nell’ambito di affidamento e riconducibili ad altri servizi effettuati avvalendosi di asset e risorse del servizio del ciclo integrato | C8: euro
B9: Contributi in c/esercizio | C9: euro
B10: RICAVI OPERATIVI | C10: euro | D10: =+SUM(D4:D9) -> 0 | E10: =+SUM(E4:E9) -> 0 | F10: =+SUM(F4:F9) -> 0 | G10: =+SUM(G4:G9) -> 0 | H10: =+SUM(H4:H9) -> 0 | I10: =+SUM(I4:I9) -> 0 | J10: =+SUM(J4:J9) -> 0 | K10: =+SUM(K4:K9) -> 0 | ... R10: =+SUM(R4:R9) -> 0
B11: Costi operativi | C11: euro
B12: COSTI OPERATIVI MONETARI | C12: euro | D12: =+D11 -> 0 | E12: =+E11 -> 0 | F12: =+F11 -> 0 | G12: =+G11 -> 0 | H12: =+H11 -> 0 | I12: =+I11 -> 0 | J12: =+J11 -> 0 | K12: =+K11 -> 0 | ... R12: =+R11 -> 0
B13: Imposte | C13: euro
B14: IMPOSTE | C14: euro | D14: =+D13 -> 0 | E14: =+E13 -> 0 | F14: =+F13 -> 0 | G14: =+G13 -> 0 | H14: =+H13 -> 0 | I14: =+I13 -> 0 | J14: =+J13 -> 0 | K14: =+K13 -> 0 | ... R14: =+R13 -> 0
B15: FLUSSI DI CASSA ECONOMICO | C15: euro | D15: =+D10-D12-D14 -> 0 | E15: =+E10-E12-E14 -> 0 | F15: =+F10-F12-F14 -> 0 | G15: =+G10-G12-G14 -> 0 | H15: =+H10-H12-H14 -> 0 | I15: =+I10-I12-I14 -> 0 | J15: =+J10-J12-J14 -> 0 | K15: =+K10-K12-K14 -> 0 | ... R15: =+R10-R12-R14 -> 0
B16: Variazioni circolante commerciale | C16: euro
B17: Variazione credito IVA | C17: euro
B18: Variazione debito IVA | C18: euro
B19: FLUSSI DI CASSA OPERATIVO | C19: euro | D19: =+D15+SUM(D16:D18) -> 0 | E19: =+E15+SUM(E16:E18) -> 0 | F19: =+F15+SUM(F16:F18) -> 0 | G19: =+G15+SUM(G16:G18) -> 0 | H19: =+H15+SUM(H16:H18) -> 0 | I19: =+I15+SUM(I16:I18) -> 0 | J19: =+J15+SUM(J16:J18) -> 0 | K19: =+K15+SUM(K16:K18) -> 0 | ... R19: =+R15+SUM(R16:R18) -> 0
B20: Erogazione debito finanziario a breve | C20: euro
B21: Erogazione debito finanziario medio - lungo termine | C21: euro
B22: Erogazione contributi pubblici | C22: euro
B23: Apporto capitale sociale | C23: euro
B24: FLUSSO DI CASSA DISPONIBILE PER RIMBORSI | C24: euro | D24: =+D19+SUM(D20:D23) -> 0 | E24: =+E19+SUM(E20:E23) -> 0 | F24: =+F19+SUM(F20:F23) -> 0 | G24: =+G19+SUM(G20:G23) -> 0 | H24: =+H19+SUM(H20:H23) -> 0 | I24: =+I19+SUM(I20:I23) -> 0 | J24: =+J19+SUM(J20:J23) -> 0 | K24: =+K19+SUM(K20:K23) -> 0 | ... R24: =+R19+SUM(R20:R23) -> 0
B25: Rimborso quota capitale per finanziamenti pregressi | C25: euro
B26: Rimborso quota interessi per finanziamenti pregressi | C26: euro
B27: Rimborso quota capitale per nuovi finanziamenti | C27: euro
B28: Rimborso quota interessi per nuovi finanziamenti | C28: euro
B29: TOTALE SERVIZIO DEL DEBITO | C29: euro | D29: =+SUM(D25:D28) -> 0 | E29: =+SUM(E25:E28) -> 0 | F29: =+SUM(F25:F28) -> 0 | G29: =+SUM(G25:G28) -> 0 | H29: =+SUM(H25:H28) -> 0 | I29: =+SUM(I25:I28) -> 0 | J29: =+SUM(J25:J28) -> 0 | K29: =+SUM(K25:K28) -> 0 | ... R29: =+SUM(R25:R28) -> 0
B30: FLUSSO DI CASSA DISPONIBILE POST SERVIZIO DEL DEBITO | C30: euro | D30: =+D24-D29 -> 0 | E30: =+E24-E29 -> 0 | F30: =+F24-F29 -> 0 | G30: =+G24-G29 -> 0 | H30: =+H24-H29 -> 0 | I30: =+I24-I29 -> 0 | J30: =+J24-J29 -> 0 | K30: =+K24-K29 -> 0 | ... R30: =+R24-R29 -> 0

Sheet StatoPatrimoniale
B1: STATO PATRIMONIALE
B4: Voci di Stato Patrimoniale | C4: UdM | D4: =+IN_Anagrafica!J9 -> 2026 | E4: =+D4+1 -> 2027 | F4: =+E4+1 -> 2028 | G4: =+F4+1 -> 2029 | H4: =+G4+1 -> 2030 | I4: =+H4+1 -> 2031 | J4: =+I4+1 -> 2032 | K4: =+J4+1 -> 2033 | L4: =+K4+1 -> 2034 | ... R4: =+Q4+1 -> 2040
B5: ATTIVO | C5: euro | D5: =+D6+D7+D11+D17 -> 0 | E5: =+E6+E7+E11+E17 -> 0 | F5: =+F6+F7+F11+F17 -> 0 | G5: =+G6+G7+G11+G17 -> 0 | H5: =+H6+H7+H11+H17 -> 0 | I5: =+I6+I7+I11+I17 -> 0 | J5: =+J6+J7+J11+J17 -> 0 | K5: =+K6+K7+K11+K17 -> 0 | ... R5: =+R6+R7+R11+R17 -> 0
B6: A) Crediti verso soci per versamenti ancora dovuti | C6: euro
B7: B) Immobilizzazioni, con separata indicazione di quelle concesse in locazione finanziaria | C7: euro | D7: =+SUM(D8:D10) -> 0 | E7: =+SUM(E8:E10) -> 0 | F7: =+SUM(F8:F10) -> 0 | G7: =+SUM(G8:G10) -> 0 | H7: =+SUM(H8:H10) -> 0 | I7: =+SUM(I8:I10) -> 0 | J7: =+SUM(J8:J10) -> 0 | K7: =+SUM(K8:K10) -> 0 | ... R7: =+SUM(R8:R10) -> 0
B8: I - Immobilizzazioni immateriali | C8: euro
B9: II - Immobilizzazioni materiali | C9: euro
B10: III - Immobilizzazioni finanziarie | C10: euro
B11: C) Attivo circolante | C11: euro | D11: =+SUM(D12:D16) -> 0 | E11: =+SUM(E12:E16) -> 0 | F11: =+SUM(F12:F16) -> 0 | G11: =+SUM(G12:G16) -> 0 | H11: =+SUM(H12:H16) -> 0 | I11: =+SUM(I12:I16) -> 0 | J11: =+SUM(J12:J16) -> 0 | K11: =+SUM(K12:K16) -> 0 | ... R11: =+SUM(R12:R16) -> 0
B12: I - Rimanenze | C12: euro
B13: II - Crediti | C13: euro
B14: di cui a breve entro 12 mesi | C14: euro
B15: III - Attività finanziarie che non costituiscono immobilizzazioni | C15: euro
B16: IV - Disponibilità liquide | C16: euro
B17: D) Ratei e risconti | C17: euro
B19: PASSIVO | C19: euro | D19: =+D20+D31+D32+D33+D64 -> 0 | E19: =+E20+E31+E32+E33+E64 -> 0 | F19: =+F20+F31+F32+F33+F64 -> 0 | G19: =+G20+G31+G32+G33+G64 -> 0 | H19: =+H20+H31+H32+H33+H64 -> 0 | I19: =+I20+I31+I32+I33+I64 -> 0 | J19: =+J20+J31+J32+J33+J64 -> 0 | K19: =+K20+K31+K32+K33+K64 -> 0 | ... R19: =+R20+R31+R32+R33+R64 -> 0
B20: A) Patrimonio netto | C20: euro | D20: =+SUM(D21:D30) -> 0 | E20: =+SUM(E21:E30) -> 0 | F20: =+SUM(F21:F30) -> 0 | G20: =+SUM(G21:G30) -> 0 | H20: =+SUM(H21:H30) -> 0 | I20: =+SUM(I21:I30) -> 0 | J20: =+SUM(J21:J30) -> 0 | K20: =+SUM(K21:K30) -> 0 | ... R20: =+SUM(R21:R30) -> 0
B21: I - Capitale | C21: euro
B22: II - Riserva da soprapprezzo delle azioni | C22: euro
B23: III - Riserve di rivalutazione | C23: euro
B24: IV - Riserva legale | C24: euro
B25: V - Riserve statutarie | C25: euro
B26: VI - Altre riserve | C26: euro
B27: VII - Riserva per operazioni di copertura dei flussi finanziari attesi | C27: euro
B28: VIII - Utile (perdita) portato a nuovo | C28: euro
B29: IX - Utile (perdita) dell'esercizio | C29: euro
B30: X - Riserva negativa per azioni proprie in portafoglio | C30: euro
B31: B) Fondi per rischi e oneri | C31: euro
B32: C) Trattamento di fine rapporto di lavoro subordinato | C32: euro
B33: D) Debiti | C33: euro | D33: =+SUM(D34+D36+D38+D40+D42+D44+D46+D48+D50+D52+D54+D56+D58+D60+D62) -> 0 | E33: =+SUM(E34:E62) -> 0 | F33: =+SUM(F34:F62) -> 0 | G33: =+SUM(G34:G62) -> 0 | H33: =+SUM(H34:H62) -> 0 | I33: =+SUM(I34:I62) -> 0 | J33: =+SUM(J34:J62) -> 0 | K33: =+SUM(K34:K62) -> 0 | L33: =+SUM(L34:L62) -> 0 | ... R33: =+SUM(R34:R62) -> 0
B34: 1) obbligazioni | C34: euro
B35: di cui a breve termine (entro 12 mesi) | C35: euro
B36: 2) obbligazioni convertibili | C36: euro
B37: di cui a breve termine (entro 12 mesi) | C37: euro
B38: 3) debiti verso soci per finanziamenti | C38: euro
B39: di cui a breve termine (entro 12 mesi) | C39: euro
B40: 4) debiti verso banche | C40: euro
B41: di cui a breve termine (entro 12 mesi) | C41: euro
B42: 5) debiti verso altri finanziatori | C42: euro
B43: di cui a breve termine (entro 12 mesi) | C43: euro
...

Sheet Tab
B2: Intevalli H | C2: Intevalli H | D2: Obiettivo annuale di maggiorazione | E2: Classe
B3: 0.8 | C3: 1000 | D3: 0 | E3: A
B4: 0.7 | C4: 0.8 | D4: 0.01 | E4: B
B5: 0.6 | C5: 0.7 | D5: 0.015 | E5: C
B6: 0.5 | C6: 0.6 | D6: 0.02 | E6: D
B7: 0.4 | C7: 0.5 | D7: 0.025 | E7: E
B8: 0.3 | C8: 0.4 | D8: 0.03 | E8: F
B9: 0.2 | C9: 0.3 | D9: 0.035 | E9: G
B10: 0.1 | C10: 0.2 | D10: 0.04 | E10: H
B11: 0 | C11: 0.1 | D11: 0.05 | E11: I
B13: Intevalli R1 | C13: Intevalli R1 | D13: Obiettivo annuale di maggiorazione | E13: Classe
B14: 0.85 | C14: 2 | D14: 0 | E14: A
B15: 0.75 | C15: 0.85 | D15: 0.015 | E15: B
B16: 0.65 | C16: 0.75 | D16: 0.02 | E16: C
B17: 0.55 | C17: 0.65 | D17: 0.025 | E17: D
B18: 0.45 | C18: 0.55 | D18: 0.03 | E18: E
B19: 0.35 | C19: 0.45 | D19: 0.035 | E19: F
B20: 0.25 | C20: 0.35 | D20: 0.04 | E20: G
B21: 0.15 | C21: 0.25 | D21: 0.045 | E21: H
B22: 0 | C22: 0.15 | D22: 0.05 | E22: I
B24: Intevalli R2 | C24: Intevalli R2 | D24: Obiettivo annuale di maggiorazione | E24: Classe
B25: 0.95 | C25: 2 | D25: 0 | E25: A
B26: 0.9 | C26: 0.95 | D26: 0.005 | E26: B
B27: 0.85 | C27: 0.9 | D27: 0.01 | E27: C
B28: 0.8 | C28: 0.85 | D28: 0.02 | E28: D
B29: 0.75 | C29: 0.8 | D29: 0.03 | E29: E
B30: 0.7 | C30: 0.75 | D30: 0.04 | E30: F
B31: 0 | C31: 0.7 | D31: 0.05 | E31: G
B34: OBIETTIVI
B35: Consolidamento
B36: Miglioramento
B39: Regime Tariffario
B40: TARI
B41: Tariffa corrispettiva
B44: Motivazioni Rettifiche anno a-1 per calcolo anno a
B45: Passaggio a tariffa corrispettiva
B46: Subentro attività gestore/Cessazione attività
B48: SI
B49: NO
B52: Tipologia affidamento
...
