Workbook
Name asspa: #REF!
Name asspa: #REF!
Name ASSPAc: #REF!
Name ASSPAc: #REF!
Name asstot: #REF!
Name asstot: #REF!
Name crediti: #REF!
Name crediti: #REF!
Name dareavere: #REF!
Name dareavere: #REF!
Name DEBFLUT: #REF!
Name DEBFLUT: #REF!
Name debiti: #REF!
Name debiti: #REF!
Name ff: #REF!
Name ff: #REF!
Name fogl_q: #REF!
Name fogl_q: #REF!
Name hh: #REF!
Name hh: #REF!
Name MOD.21: #REF!
Name MOD.21: [1]INS.DATI!#REF!
Name MOD.48T: #REF!
Name MOD.48T: [1]INS.DATI!#REF!
Name MOD.61TER.T5.EE: #REF!
Name MOD.61TER.T5.EE: [1]INS.DATI!#REF!
Name NewTable0: #REF!
Name NewTable0: #REF!
Name NewTable1: #REF!
Name NewTable1: #REF!
Name NewTable4: #REF!
Name NewTable4: #REF!
Name NewTable6: #REF!
Name NewTable6: #REF!
Name PA: #REF!
Name PA: #REF!
Name PORTAFOGLIO: #REF!
Name PORTAFOGLIO: [1]INS.DATI!#REF!
Name ppp: #REF!
Name ppp: #REF!
Name pppp: #REF!
Name pppp: #REF!
Name pppppppp: #REF!
Name pppppppp: #REF!
Name pppppppppp: #REF!
Name pppppppppp: #REF!
Name prevpa: #REF!
Name prevpa: #REF!
Name prevpac: #REF!
Name prevpac: #REF!
Name prevtot: #REF!
Name prevtot: #REF!
Name prevtotcons: #REF!
Name prevtotcons: #REF!
Name Query6: #REF!
Name Query6: #REF!
Name sanpa: #REF!
Name sanpa: #REF!
Name sanpac: #REF!
Name sanpac: #REF!

Sheet 1 PdC DLGS 118_2011_PE e PP
A1: PIANO DEI CONTI INTEGRATO per gli enti pubblici territoriali ex Dlgs 118 del 2011 (aggiornamento del 2023) Allegato n. 6/2 al D.Lgs 118/2011 - PIANO ECONOMICO | E1: Voci del Piano dei conti unico, Segmento A, raccordate con le voci del Piano dei conti vigente | H1: Dati da inserire (ENTE) in corrispondenza delle righe popolate della colonna A)
A2: LIVELLO | B2: Descrizione | C2: CODICE | E2: Codice voce PdC unico | F2: Descrizione voce PdC unico | H2: SALDO CONTABILE 2025
A3: I | B3: Componenti positivi della gestione | C3: 1 | F3: =IF(E3="","",VLOOKUP(E3,'2 Pdc unico (segm A)'!F$3:H$629,3,FALSE))
A4: II | B4: Proventi di natura tributaria, contributiva e perequativa | C4: 1.1
A5: III | B5: Proventi da tributi | C5: 1.1.1 | F5: =IF(E5="","",VLOOKUP(E5,'2 Pdc unico (segm A)'!F$3:H$723,3,FALSE))
A6: IV | B6: Proventi da imposte, tasse e proventi assimilati | C6: 1.1.1.01 | F6: =IF(E6="","",VLOOKUP(E6,'2 Pdc unico (segm A)'!F$3:H$723,3,FALSE))
A7: V | B7: Imposta municipale propria | C7: 1.1.1.01.06 | F7: =IF(E7="","",VLOOKUP(E7,'2 Pdc unico (segm A)'!F$3:H$723,3,FALSE))
A8: VI | B8: Imposta municipale propria riscossa a seguito dell'attività ordinaria di gestione | C8: 1.1.1.01.06.001 | E8: 6.1.0.0.0 | F8: =IF(E8="","",VLOOKUP(E8,'2 Pdc unico (segm A)'!F$3:H$723,3,FALSE)) -> Proventi da tributi
A9: VI | B9: Imposte municipale propria riscosse a seguito di attività di verifica e controllo | C9: 1.1.1.01.06.002 | E9: 6.1.0.0.0 | F9: =IF(E9="","",VLOOKUP(E9,'2 Pdc unico (segm A)'!F$3:H$723,3,FALSE)) -> Proventi da tributi
A10: V | B10: Imposta comunale sugli immobili (ICI) | C10: 1.1.1.01.08 | F10: =IF(E10="","",VLOOKUP(E10,'2 Pdc unico (segm A)'!F$3:H$723,3,FALSE))
A11: VI | B11: Imposta comunale sugli immobili (ICI) riscossa a seguito dell'attività ordinaria di gestione | C11: 1.1.1.01.08.001 | E11: 6.1.0.0.0 | F11: =IF(E11="","",VLOOKUP(E11,'2 Pdc unico (segm A)'!F$3:H$723,3,FALSE)) -> Proventi da tributi
A12: VI | B12: Imposta comunale sugli immobili (ICI) riscossa a seguito di attività di verifica e controllo | C12: 1.1.1.01.08.002 | E12: 6.1.0.0.0 | F12: =IF(E12="","",VLOOKUP(E12,'2 Pdc unico (segm A)'!F$3:H$723,3,FALSE)) -> Proventi da tributi
A13: V | B13: Addizionale comunale IRPEF | C13: 1.1.1.01.16 | F13: =IF(E13="","",VLOOKUP(E13,'2 Pdc unico (segm A)'!F$3:H$723,3,FALSE))
A14: VI | B14: Addizionale comunale IRPEF riscossa a seguito dell'attività ordinaria di gestione | C14: 1.1.1.01.16.001 | E14: 6.1.0.0.0 | F14: =IF(E14="","",VLOOKUP(E14,'2 Pdc unico (segm A)'!F$3:H$723,3,FALSE)) -> Proventi da tributi
A15: VI | B15: Addizionale comunale IRPEF riscossa a seguito di attività di verifica e controllo | C15: 1.1.1.01.16.002 | E15: 6.1.0.0.0 | F15: =IF(E15="","",VLOOKUP(E15,'2 Pdc unico (segm A)'!F$3:H$723,3,FALSE)) -> Proventi da tributi
A16: V | B16: Addizionale regionale IRPEF non sanità | C16: 1.1.1.01.17 | F16: =IF(E16="","",VLOOKUP(E16,'2 Pdc unico (segm A)'!F$3:H$723,3,FALSE))
A17: VI | B17: Addizionale regionale IRPEF non sanità riscossa a seguito dell'attività ordinaria di gestione | C17: 1.1.1.01.17.001 | E17: 6.1.0.0.0 | F17: =IF(E17="","",VLOOKUP(E17,'2 Pdc unico (segm A)'!F$3:H$723,3,FALSE)) -> Proventi da tributi
A18: VI | B18: Addizionale regionale IRPEF non sanità riscossa a seguito di attività di verifica e controllo | C18: 1.1.1.01.17.002 | E18: 6.1.0.0.0 | F18: =IF(E18="","",VLOOKUP(E18,'2 Pdc unico (segm A)'!F$3:H$723,3,FALSE)) -> Proventi da tributi
A19: V | B19: Imposta regionale sulle attività produttive (IRAP) non Sanità | C19: 1.1.1.01.20 | F19: =IF(E19="","",VLOOKUP(E19,'2 Pdc unico (segm A)'!F$3:H$723,3,FALSE))
A20: VI | B20: Imposta regionale sulle attività produttive (IRAP) non Sanità riscossa a seguito dell'attività ordinaria di gestione | C20: 1.1.1.01.20.001 | E20: 6.1.0.0.0 | F20: =IF(E20="","",VLOOKUP(E20,'2 Pdc unico (segm A)'!F$3:H$723,3,FALSE)) -> Proventi da tributi
A21: VI | B21: Imposta regionale sulle attività produttive (IRAP) non Sanità riscossa a seguito di attività di verifica e controllo | C21: 1.1.1.01.20.002 | E21: 6.1.0.0.0 | F21: =IF(E21="","",VLOOKUP(E21,'2 Pdc unico (segm A)'!F$3:H$723,3,FALSE)) -> Proventi da tributi
A22: V | B22: Imposta regionale sulla benzina per autotrazione | C22: 1.1.1.01.31 | F22: =IF(E22="","",VLOOKUP(E22,'2 Pdc unico (segm A)'!F$3:H$723,3,FALSE))
A23: VI | B23: Imposta regionale sulla benzina per autotrazione riscossa a seguito dell'attività ordinaria di gestione | C23: 1.1.1.01.31.001 | E23: 6.1.0.0.0 | F23: =IF(E23="","",VLOOKUP(E23,'2 Pdc unico (segm A)'!F$3:H$723,3,FALSE)) -> Proventi da tributi
A24: VI | B24: Imposta regionale sulla benzina per autotrazione riscossi a seguito di attività di verifica e controllo | C24: 1.1.1.01.31.002 | E24: 6.1.0.0.0 | F24: =IF(E24="","",VLOOKUP(E24,'2 Pdc unico (segm A)'!F$3:H$723,3,FALSE)) -> Proventi da tributi
A25: V | B25: Imposta sulle assicurazioni RC auto | C25: 1.1.1.01.39 | F25: =IF(E25="","",VLOOKUP(E25,'2 Pdc unico (segm A)'!F$3:H$723,3,FALSE))
A26: VI | B26: Imposta sulle assicurazioni RC auto riscossa a seguito dell'attività ordinaria di gestione | C26: 1.1.1.01.39.001 | E26: 6.1.0.0.0 | F26: =IF(E26="","",VLOOKUP(E26,'2 Pdc unico (segm A)'!F$3:H$723,3,FALSE)) -> Proventi da tributi
A27: VI | B27: Imposta sulle assicurazioni RC auto riscossa a seguito di attività di verifica e controllo | C27: 1.1.1.01.39.002 | E27: 6.1.0.0.0 | F27: =IF(E27="","",VLOOKUP(E27,'2 Pdc unico (segm A)'!F$3:H$723,3,FALSE)) -> Proventi da tributi
A28: V | B28: Imposta di iscrizione al pubblico registro automobilistico (PRA) | C28: 1.1.1.01.40 | F28: =IF(E28="","",VLOOKUP(E28,'2 Pdc unico (segm A)'!F$3:H$723,3,FALSE))
A29: VI | B29: Imposta di iscrizione al pubblico registro automobilistico (PRA) riscossa a seguito dell'attività ordinaria di gestione | C29: 1.1.1.01.40.001 | E29: 6.1.0.0.0 | F29: =IF(E29="","",VLOOKUP(E29,'2 Pdc unico (segm A)'!F$3:H$723,3,FALSE)) -> Proventi da tributi
A30: VI | B30: Imposta di iscrizione al pubblico registro automobilistico (PRA) riscossa a seguito di attività di verifica e controllo | C30: 1.1.1.01.40.002 | E30: 6.1.0.0.0 | F30: =IF(E30="","",VLOOKUP(E30,'2 Pdc unico (segm A)'!F$3:H$723,3,FALSE)) -> Proventi da tributi
A31: V | B31: Imposta di soggiorno | C31: 1.1.1.01.41 | F31: =IF(E31="","",VLOOKUP(E31,'2 Pdc unico (segm A)'!F$3:H$723,3,FALSE))
A32: VI | B32: Imposta di soggiorno riscossa a seguito dell'attività ordinaria di gestione | C32: 1.1.1.01.41.001 | E32: 6.1.0.0.0 | F32: =IF(E32="","",VLOOKUP(E32,'2 Pdc unico (segm A)'!F$3:H$723,3,FALSE)) -> Proventi da tributi
A33: VI | B33: Imposta di soggiorno riscossa a seguito di attività di verifica e controllo | C33: 1.1.1.01.41.002 | E33: 6.1.0.0.0 | F33: =IF(E33="","",VLOOKUP(E33,'2 Pdc unico (segm A)'!F$3:H$723,3,FALSE)) -> Proventi da tributi
A34: V | B34: Imposta regionale sulle concessioni statali sui beni del demanio marittimo | C34: 1.1.1.01.42 | F34: =IF(E34="","",VLOOKUP(E34,'2 Pdc unico (segm A)'!F$3:H$723,3,FALSE))
A35: VI | B35: Imposta regionale sulle concessioni statali sui beni del demanio marittimo riscossa a seguito dell'attività ordinaria di gestione | C35: 1.1.1.01.42.001 | E35: 6.1.0.0.0 | F35: =IF(E35="","",VLOOKUP(E35,'2 Pdc unico (segm A)'!F$3:H$723,3,FALSE)) -> Proventi da tributi
A36: VI | B36: Imposta regionale sulle concessioni statali sui beni del demanio marittimo riscossa a seguito di attività di verifica e controllo | C36: 1.1.1.01.42.002 | E36: 6.1.0.0.0 | F36: =IF(E36="","",VLOOKUP(E36,'2 Pdc unico (segm A)'!F$3:H$723,3,FALSE)) -> Proventi da tributi
A37: V | B37: Imposta regionale sulle concessioni statali sui beni del patrimonio indisponibile | C37: 1.1.1.01.43 | F37: =IF(E37="","",VLOOKUP(E37,'2 Pdc unico (segm A)'!F$3:H$723,3,FALSE))
A38: VI | B38: Imposta regionale sulle concessioni statali sui beni del patrimonio indisponibile riscossa a seguito dell'attività ordinaria di gestione | C38: 1.1.1.01.43.001 | E38: 6.1.0.0.0 | F38: =IF(E38="","",VLOOKUP(E38,'2 Pdc unico (segm A)'!F$3:H$723,3,FALSE)) -> Proventi da tributi
A39: VI | B39: Imposta regionale sulle concessioni statali sui beni del patrimonio indisponibile riscossa a seguito di attività di verifica e controllo | C39: 1.1.1.01.43.002 | E39: 6.1.0.0.0 | F39: =IF(E39="","",VLOOKUP(E39,'2 Pdc unico (segm A)'!F$3:H$723,3,FALSE)) -> Proventi da tributi
A40: V | B40: Imposta regionale per le emissioni sonore degli aeromobili | C40: 1.1.1.01.44 | F40: =IF(E40="","",VLOOKUP(E40,'2 Pdc unico (segm A)'!F$3:H$723,3,FALSE))
...

Sheet 2 Pdc unico (segm A)
A1: Piano dei conti unico (Aggiornamento, approvato il 17 aprile 2025, del Piano dei conti adottato con Determina del RGS n. 176775 del 27 giugno 2024 ) | I1: Dati fissi NON MODIFICABILI | J1: Importi calcolati dal foglio 1) NON MODIFICABILI | L1: Importi da inserire | N1: Importi calcolati (formula) NON MODIFICABILI
A2: Codice delle voci | G2: Voci del SEGMENTO A (ITAS) | J2: B) | L2: C) | N2: D) = B) + C)
A3: Cod Liv I | B3: Cod Liv II | C3: Cod Liv III | D3: Cod Liv IV | E3: Cod Liv V | F3: Codice puntato completo v0325 | G3: Livello voce Segm A | H3: Descrizione voce Segmento A | I3: Collegamento delle voci del segmento A con le voci degli schemi di bilancio ITAS1 | J3: IMPORTO 2025 RICLASSIFICATO SU VOCI SEGMENTO A | L3: EVENTUALI RETTIFICHE/INTEGRAZIONI (+/-) | N3: IMPORTO 2025 DA RIALLOCARE SUGLI SCHEMI DI CE e SP
A4: 1 | B4: 0 | C4: 0 | D4: 0 | E4: 0 | F4: =CONCATENATE(A4,".",B4,".",C4,".",D4,".",E4) -> 1.0.0.0.0 | G4: I | H4: ATTIVITA' NON CORRENTI | J4: =+J5+J27+J146+J156 -> 0 | L4: =+L5+L27+L146+L156 -> 0 | N4: =+N5+N27+N146+N156 -> 0
A5: 1 | B5: 1 | C5: 0 | D5: 0 | E5: 0 | F5: =CONCATENATE(A5,".",B5,".",C5,".",D5,".",E5) -> 1.1.0.0.0 | G5: II | H5: Immobilizzazioni immateriali e avviamento | J5: =+J6+J10+J14+J18+J22+J23 -> 0 | L5: =+L6+L10+L14+L18+L22+L23 -> 0 | N5: =+N6+N10+N14+N18+N22+N23 -> 0
A6: 1 | B6: 1 | C6: 1 | D6: 0 | E6: 0 | F6: =CONCATENATE(A6,".",B6,".",C6,".",D6,".",E6) -> 1.1.1.0.0 | G6: III | H6: Diritti di brevetto industriale e diritti di utilizzazione di opere dell'ingegno | I6: SP-ATT-A.1_L | J6: =SUM(J7:J9) -> 0 | L6: =SUM(L7:L9) -> 0 | N6: =SUM(N7:N9) -> 0
A7: 1 | B7: 1 | C7: 1 | D7: 1 | E7: 0 | F7: =CONCATENATE(A7,".",B7,".",C7,".",D7,".",E7) -> 1.1.1.1.0 | G7: IV | H7: Diritti di brevetto industriale e diritti di utilizzazione di opere dell'ingegno acquisiti con leasing finanziario | I7: SP-ATT-A.1_L_leas | J7: =SUMIF('1 PdC DLGS 118_2011_PE e PP'!$E$4:$E$5622,'2 Pdc unico (segm A)'!F7,'1 PdC DLGS 118_2011_PE e PP'!$H$4:$H$5622) -> 0 | L7: 0 | N7: =+J7+L7 -> 0
A8: 1 | B8: 1 | C8: 1 | D8: 2 | E8: 0 | F8: =CONCATENATE(A8,".",B8,".",C8,".",D8,".",E8) -> 1.1.1.2.0 | G8: IV | H8: Diritti di brevetto industriale e diritti di utilizzazione di opere dell'ingegno in concessione a terzi | I8: SP-ATT-A.1_L_conc | J8: =SUMIF('1 PdC DLGS 118_2011_PE e PP'!$E$4:$E$5622,'2 Pdc unico (segm A)'!F8,'1 PdC DLGS 118_2011_PE e PP'!$H$4:$H$5622) -> 0 | L8: 0 | N8: =+J8+L8 -> 0
A9: 1 | B9: 1 | C9: 1 | D9: 3 | E9: 0 | F9: =CONCATENATE(A9,".",B9,".",C9,".",D9,".",E9) -> 1.1.1.3.0 | G9: IV | H9: Diritti di brevetto industriale e diritti di utilizzazione di opere dell'ingegno non in concessione e non acquisiti con leasing finanziario | I9: SP-ATT-A.1_L_Noleasconc | J9: =SUMIF('1 PdC DLGS 118_2011_PE e PP'!$E$4:$E$5622,'2 Pdc unico (segm A)'!F9,'1 PdC DLGS 118_2011_PE e PP'!$H$4:$H$5622) -> 0 | L9: 0 | N9: =+J9+L9 -> 0
A10: 1 | B10: 1 | C10: 2 | D10: 0 | E10: 0 | F10: =CONCATENATE(A10,".",B10,".",C10,".",D10,".",E10) -> 1.1.2.0.0 | G10: III | H10: Concessioni, licenze, marchi | I10: SP-ATT-A.2_L | J10: =SUM(J11:J13) -> 0 | L10: =SUM(L11:L13) -> 0 | N10: =SUM(N11:N13) -> 0
A11: 1 | B11: 1 | C11: 2 | D11: 1 | E11: 0 | F11: =CONCATENATE(A11,".",B11,".",C11,".",D11,".",E11) -> 1.1.2.1.0 | G11: IV | H11: Concessioni, licenze, marchi acquisiti con leasing finanziario | I11: SP-ATT-A.2_L_leas | J11: =SUMIF('1 PdC DLGS 118_2011_PE e PP'!$E$4:$E$5622,'2 Pdc unico (segm A)'!F11,'1 PdC DLGS 118_2011_PE e PP'!$H$4:$H$5622) -> 0 | L11: 0 | N11: =+J11+L11 -> 0
A12: 1 | B12: 1 | C12: 2 | D12: 2 | E12: 0 | F12: =CONCATENATE(A12,".",B12,".",C12,".",D12,".",E12) -> 1.1.2.2.0 | G12: IV | H12: Concessioni, licenze, marchi in concessione a terzi | I12: SP-ATT-A.2_L_conc | J12: =SUMIF('1 PdC DLGS 118_2011_PE e PP'!$E$4:$E$5622,'2 Pdc unico (segm A)'!F12,'1 PdC DLGS 118_2011_PE e PP'!$H$4:$H$5622) -> 0 | L12: 0 | N12: =+J12+L12 -> 0
A13: 1 | B13: 1 | C13: 2 | D13: 3 | E13: 0 | F13: =CONCATENATE(A13,".",B13,".",C13,".",D13,".",E13) -> 1.1.2.3.0 | G13: IV | H13: Concessioni, licenze, marchi non in concessione e non acquisiti con leasing finanziario | I13: SP-ATT-A.2_L_Noleasconc | J13: =SUMIF('1 PdC DLGS 118_2011_PE e PP'!$E$4:$E$5622,'2 Pdc unico (segm A)'!F13,'1 PdC DLGS 118_2011_PE e PP'!$H$4:$H$5622) -> 0 | L13: 0 | N13: =+J13+L13 -> 0
A14: 1 | B14: 1 | C14: 3 | D14: 0 | E14: 0 | F14: =CONCATENATE(A14,".",B14,".",C14,".",D14,".",E14) -> 1.1.3.0.0 | G14: III | H14: Altri diritti | I14: SP-ATT-A.3_L | J14: =SUM(J15:J17) -> 0 | L14: =SUM(L15:L17) -> 0 | N14: =SUM(N15:N17) -> 0
A15: 1 | B15: 1 | C15: 3 | D15: 1 | E15: 0 | F15: =CONCATENATE(A15,".",B15,".",C15,".",D15,".",E15) -> 1.1.3.1.0 | G15: IV | H15: Altri diritti acquisiti con leasing finanziario | I15: SP-ATT-A.3_L_leas | J15: =SUMIF('1 PdC DLGS 118_2011_PE e PP'!$E$4:$E$5622,'2 Pdc unico (segm A)'!F15,'1 PdC DLGS 118_2011_PE e PP'!$H$4:$H$5622) -> 0 | L15: 0 | N15: =+J15+L15 -> 0
A16: 1 | B16: 1 | C16: 3 | D16: 2 | E16: 0 | F16: =CONCATENATE(A16,".",B16,".",C16,".",D16,".",E16) -> 1.1.3.2.0 | G16: IV | H16: Altri diritti in concessione a terzi | I16: SP-ATT-A.3_L_conc | J16: =SUMIF('1 PdC DLGS 118_2011_PE e PP'!$E$4:$E$5622,'2 Pdc unico (segm A)'!F16,'1 PdC DLGS 118_2011_PE e PP'!$H$4:$H$5622) -> 0 | L16: 0 | N16: =+J16+L16 -> 0
A17: 1 | B17: 1 | C17: 3 | D17: 3 | E17: 0 | F17: =CONCATENATE(A17,".",B17,".",C17,".",D17,".",E17) -> 1.1.3.3.0 | G17: IV | H17: Altri diritti non in concessione e non acquisiti con leasing finanziario | I17: SP-ATT-A.3_L_Noleasconc | J17: =SUMIF('1 PdC DLGS 118_2011_PE e PP'!$E$4:$E$5622,'2 Pdc unico (segm A)'!F17,'1 PdC DLGS 118_2011_PE e PP'!$H$4:$H$5622) -> 0 | L17: 0 | N17: =+J17+L17 -> 0
A18: 1 | B18: 1 | C18: 4 | D18: 0 | E18: 0 | F18: =CONCATENATE(A18,".",B18,".",C18,".",D18,".",E18) -> 1.1.4.0.0 | G18: III | H18: Avviamento | I18: SP-ATT-A.4_L | J18: =SUM(J19:J21) -> 0 | L18: =SUM(L19:L21) -> 0 | N18: =SUM(N19:N21) -> 0
A19: 1 | B19: 1 | C19: 4 | D19: 1 | E19: 0 | F19: =CONCATENATE(A19,".",B19,".",C19,".",D19,".",E19) -> 1.1.4.1.0 | G19: IV | H19: Avviamento acquisito con leasing finanziario | I19: SP-ATT-A.4_L_leas | J19: =SUMIF('1 PdC DLGS 118_2011_PE e PP'!$E$4:$E$5622,'2 Pdc unico (segm A)'!F19,'1 PdC DLGS 118_2011_PE e PP'!$H$4:$H$5622) -> 0 | L19: 0 | N19: =+J19+L19 -> 0
A20: 1 | B20: 1 | C20: 4 | D20: 2 | E20: 0 | F20: =CONCATENATE(A20,".",B20,".",C20,".",D20,".",E20) -> 1.1.4.2.0 | G20: IV | H20: Avviamento in concessione a terzi | I20: SP-ATT-A.4_L_conc | J20: =SUMIF('1 PdC DLGS 118_2011_PE e PP'!$E$4:$E$5622,'2 Pdc unico (segm A)'!F20,'1 PdC DLGS 118_2011_PE e PP'!$H$4:$H$5622) -> 0 | L20: 0 | N20: =+J20+L20 -> 0
A21: 1 | B21: 1 | C21: 4 | D21: 3 | E21: 0 | F21: =CONCATENATE(A21,".",B21,".",C21,".",D21,".",E21) -> 1.1.4.3.0 | G21: IV | H21: Avviamento non in concessione e non acquisito con leasing finanziario | I21: SP-ATT-A.4_L_Noleasconc | J21: =SUMIF('1 PdC DLGS 118_2011_PE e PP'!$E$4:$E$5622,'2 Pdc unico (segm A)'!F21,'1 PdC DLGS 118_2011_PE e PP'!$H$4:$H$5622) -> 0 | L21: 0 | N21: =+J21+L21 -> 0
A22: 1 | B22: 1 | C22: 5 | D22: 0 | E22: 0 | F22: =CONCATENATE(A22,".",B22,".",C22,".",D22,".",E22) -> 1.1.5.0.0 | G22: III | H22: Immobilizzazioni immateriali in corso e acconti | I22: SP-ATT-A.5_L | J22: =SUMIF('1 PdC DLGS 118_2011_PE e PP'!$E$4:$E$5622,'2 Pdc unico (segm A)'!F22,'1 PdC DLGS 118_2011_PE e PP'!$H$4:$H$5622) -> 0 | L22: 0 | N22: =+J22+L22 -> 0
A23: 1 | B23: 1 | C23: 6 | D23: 0 | E23: 0 | F23: =CONCATENATE(A23,".",B23,".",C23,".",D23,".",E23) -> 1.1.6.0.0 | G23: III | H23: Altre immobilizzazioni immateriali | I23: SP-ATT-A.6_L | J23: =SUM(J24:J26) -> 0 | L23: =SUM(L24:L26) -> 0 | N23: =SUM(N24:N26) -> 0
A24: 1 | B24: 1 | C24: 6 | D24: 1 | E24: 0 | F24: =CONCATENATE(A24,".",B24,".",C24,".",D24,".",E24) -> 1.1.6.1.0 | G24: IV | H24: Altre immobilizzazioni immateriali acquisiti con leasing finanziario | I24: SP-ATT-A.6_L_leas | J24: =SUMIF('1 PdC DLGS 118_2011_PE e PP'!$E$4:$E$5622,'2 Pdc unico (segm A)'!F24,'1 PdC DLGS 118_2011_PE e PP'!$H$4:$H$5622) -> 0 | L24: 0 | N24: =+J24+L24 -> 0
A25: 1 | B25: 1 | C25: 6 | D25: 2 | E25: 0 | F25: =CONCATENATE(A25,".",B25,".",C25,".",D25,".",E25) -> 1.1.6.2.0 | G25: IV | H25: Altre immobilizzazioni immateriali in concessione a terzi | I25: SP-ATT-A.6_L_conc | J25: =SUMIF('1 PdC DLGS 118_2011_PE e PP'!$E$4:$E$5622,'2 Pdc unico (segm A)'!F25,'1 PdC DLGS 118_2011_PE e PP'!$H$4:$H$5622) -> 0 | L25: 0 | N25: =+J25+L25 -> 0
A26: 1 | B26: 1 | C26: 6 | D26: 3 | E26: 0 | F26: =CONCATENATE(A26,".",B26,".",C26,".",D26,".",E26) -> 1.1.6.3.0 | G26: IV | H26: Altre immobilizzazioni immateriali non in concessione e non acquisiti con leasing finanziario | I26: SP-ATT-A.6_L_Noleasconc | J26: =SUMIF('1 PdC DLGS 118_2011_PE e PP'!$E$4:$E$5622,'2 Pdc unico (segm A)'!F26,'1 PdC DLGS 118_2011_PE e PP'!$H$4:$H$5622) -> 0 | L26: 0 | N26: =+J26+L26 -> 0
A27: 1 | B27: 2 | C27: 0 | D27: 0 | E27: 0 | F27: =CONCATENATE(A27,".",B27,".",C27,".",D27,".",E27) -> 1.2.0.0.0 | G27: II | H27: Immobilizzazioni materiali | J27: =+J28+J74+J114+J145 -> 0 | L27: =+L28+L74+L114+L145 -> 0 | N27: =+N28+N74+N114+N145 -> 0
A28: 1 | B28: 2 | C28: 1 | D28: 0 | E28: 0 | F28: =CONCATENATE(A28,".",B28,".",C28,".",D28,".",E28) -> 1.2.1.0.0 | G28: III | H28: Beni demaniali | J28: =+J29+J32+J35+J38+J41+J46+J49+J52+J55+J58+J61+J64+J67 -> 0 | L28: =+L29+L32+L35+L38+L41+L46+L49+L52+L55+L58+L61+L64+L67 -> 0 | N28: =+N29+N32+N35+N38+N41+N46+N49+N52+N55+N58+N61+N64+N67 -> 0
A29: 1 | B29: 2 | C29: 1 | D29: 1 | E29: 0 | F29: =CONCATENATE(A29,".",B29,".",C29,".",D29,".",E29) -> 1.2.1.1.0 | G29: IV | H29: Terreni demaniali | I29: SP-ATT-B.1.1_L | J29: =SUM(J30:J31) -> 0 | L29: =SUM(L30:L31) -> 0 | N29: =SUM(N30:N31) -> 0
A30: 1 | B30: 2 | C30: 1 | D30: 1 | E30: 1 | F30: =CONCATENATE(A30,".",B30,".",C30,".",D30,".",E30) -> 1.2.1.1.1 | G30: V | H30: Terreni demaniali in concessione | I30: SP-ATT-B.1.1_L_conc | J30: =SUMIF('1 PdC DLGS 118_2011_PE e PP'!$E$4:$E$5622,'2 Pdc unico (segm A)'!F30,'1 PdC DLGS 118_2011_PE e PP'!$H$4:$H$5622) -> 0 | L30: 0 | N30: =+J30+L30 -> 0
A31: 1 | B31: 2 | C31: 1 | D31: 1 | E31: 2 | F31: =CONCATENATE(A31,".",B31,".",C31,".",D31,".",E31) -> 1.2.1.1.2 | G31: V | H31: Terreni demaniali non in concessione | I31: SP-ATT-B.1.1_L_NOconc | J31: =SUMIF('1 PdC DLGS 118_2011_PE e PP'!$E$4:$E$5622,'2 Pdc unico (segm A)'!F31,'1 PdC DLGS 118_2011_PE e PP'!$H$4:$H$5622) -> 0 | L31: 0 | N31: =+J31+L31 -> 0
A32: 1 | B32: 2 | C32: 1 | D32: 2 | E32: 0 | F32: =CONCATENATE(A32,".",B32,".",C32,".",D32,".",E32) -> 1.2.1.2.0 | G32: IV | H32: Fabbricati demaniali | I32: SP-ATT-B.1.2_L | J32: =SUM(J33:J34) -> 0 | L32: =SUM(L33:L34) -> 0 | N32: =SUM(N33:N34) -> 0
A33: 1 | B33: 2 | C33: 1 | D33: 2 | E33: 1 | F33: =CONCATENATE(A33,".",B33,".",C33,".",D33,".",E33) -> 1.2.1.2.1 | G33: V | H33: Fabbricati demaniali in concessione | I33: SP-ATT-B.1.2_L_conc | J33: =SUMIF('1 PdC DLGS 118_2011_PE e PP'!$E$4:$E$5622,'2 Pdc unico (segm A)'!F33,'1 PdC DLGS 118_2011_PE e PP'!$H$4:$H$5622) -> 0 | L33: 0 | N33: =+J33+L33 -> 0
A34: 1 | B34: 2 | C34: 1 | D34: 2 | E34: 2 | F34: =CONCATENATE(A34,".",B34,".",C34,".",D34,".",E34) -> 1.2.1.2.2 | G34: V | H34: Fabbricati demaniali non in concessione | I34: SP-ATT-B.1.2_L_NOconc | J34: =SUMIF('1 PdC DLGS 118_2011_PE e PP'!$E$4:$E$5622,'2 Pdc unico (segm A)'!F34,'1 PdC DLGS 118_2011_PE e PP'!$H$4:$H$5622) -> 0 | L34: 0 | N34: =+J34+L34 -> 0
A35: 1 | B35: 2 | C35: 1 | D35: 3 | E35: 0 | F35: =CONCATENATE(A35,".",B35,".",C35,".",D35,".",E35) -> 1.2.1.3.0 | G35: IV | H35: Strade e autostrade (demanio stradale) | I35: SP-ATT-B.1.3_L | J35: =SUM(J36:J37) -> 0 | L35: =SUM(L36:L37) -> 0 | N35: =SUM(N36:N37) -> 0
A36: 1 | B36: 2 | C36: 1 | D36: 3 | E36: 1 | F36: =CONCATENATE(A36,".",B36,".",C36,".",D36,".",E36) -> 1.2.1.3.1 | G36: V | H36: Strade e autostrade (demanio stradale) in concessione | I36: SP-ATT-B.1.3_L_conc | J36: =SUMIF('1 PdC DLGS 118_2011_PE e PP'!$E$4:$E$5622,'2 Pdc unico (segm A)'!F36,'1 PdC DLGS 118_2011_PE e PP'!$H$4:$H$5622) -> 0 | L36: 0 | N36: =+J36+L36 -> 0
A37: 1 | B37: 2 | C37: 1 | D37: 3 | E37: 2 | F37: =CONCATENATE(A37,".",B37,".",C37,".",D37,".",E37) -> 1.2.1.3.2 | G37: V | H37: Strade e autostrade (demanio stradale) non in concessione | I37: SP-ATT-B.1.3_L_NOconc | J37: =SUMIF('1 PdC DLGS 118_2011_PE e PP'!$E$4:$E$5622,'2 Pdc unico (segm A)'!F37,'1 PdC DLGS 118_2011_PE e PP'!$H$4:$H$5622) -> 0 | L37: 0 | N37: =+J37+L37 -> 0
A38: 1 | B38: 2 | C38: 1 | D38: 4 | E38: 0 | F38: =CONCATENATE(A38,".",B38,".",C38,".",D38,".",E38) -> 1.2.1.4.0 | G38: IV | H38: Strade ferrate non militari (demanio ferroviario) | I38: SP-ATT-B.1.4_L | J38: =SUM(J39:J40) -> 0 | L38: =SUM(L39:L40) -> 0 | N38: =SUM(N39:N40) -> 0
A39: 1 | B39: 2 | C39: 1 | D39: 4 | E39: 1 | F39: =CONCATENATE(A39,".",B39,".",C39,".",D39,".",E39) -> 1.2.1.4.1 | G39: V | H39: Strade ferrate non militari (demanio ferroviario) in concessione | I39: SP-ATT-B.1.4_L_conc | J39: =SUMIF('1 PdC DLGS 118_2011_PE e PP'!$E$4:$E$5622,'2 Pdc unico (segm A)'!F39,'1 PdC DLGS 118_2011_PE e PP'!$H$4:$H$5622) -> 0 | L39: 0 | N39: =+J39+L39 -> 0
A40: 1 | B40: 2 | C40: 1 | D40: 4 | E40: 2 | F40: =CONCATENATE(A40,".",B40,".",C40,".",D40,".",E40) -> 1.2.1.4.2 | G40: V | H40: Strade ferrate non militari (demanio ferroviario) non in concessione | I40: SP-ATT-B.1.4_L_NOconc | J40: =SUMIF('1 PdC DLGS 118_2011_PE e PP'!$E$4:$E$5622,'2 Pdc unico (segm A)'!F40,'1 PdC DLGS 118_2011_PE e PP'!$H$4:$H$5622) -> 0 | L40: 0 | N40: =+J40+L40 -> 0
...

Sheet 3 Stato Patrimoniale-All1ITAS1 
A1: ITAS 1_ ALL. 1 STATO PATRIMONIALE
A2: A T T I V O | C2: Anno 2025 (dati in €) | D2: Codice
A3: ATTIVITÀ NON CORRENTI | F3: Immobilizzazioni lorde TOTALI | I3: Fondi svalutazione | L3: Fondi ammortamento
A4: A | B4: Immobilizzazioni immateriali e avviamento [1] [2]
A5: 1 | B5: Diritti di brevetto e utilizzazione opere dell'ingegno | C5: =+G5-J5-M5 -> 0 | D5: SP-ATT-A.1 | F5: SP-ATT-A.1_L | G5: =SUMIF('2 Pdc unico (segm A)'!$I:$I,F5,'2 Pdc unico (segm A)'!$N:$N) -> 0 | I5: SP-ATT-A.1_FS | J5: =SUMIF('2 Pdc unico (segm A)'!$I:$I,I5,'2 Pdc unico (segm A)'!$N:$N) -> 0 | L5: SP-ATT-A.1_FA | M5: =SUMIF('2 Pdc unico (segm A)'!$I:$I,L5,'2 Pdc unico (segm A)'!$N:$N) -> 0
A6: 2 | B6: Concessioni, licenze, marchi | C6: =+G6-J6-M6 -> 0 | D6: SP-ATT-A.2 | F6: SP-ATT-A.2_L | G6: =SUMIF('2 Pdc unico (segm A)'!$I:$I,F6,'2 Pdc unico (segm A)'!$N:$N) -> 0 | I6: SP-ATT-A.2_FS | J6: =SUMIF('2 Pdc unico (segm A)'!$I:$I,I6,'2 Pdc unico (segm A)'!$N:$N) -> 0 | L6: SP-ATT-A.2_FA | M6: =SUMIF('2 Pdc unico (segm A)'!$I:$I,L6,'2 Pdc unico (segm A)'!$N:$N) -> 0
A7: 3 | B7: Altri diritti | C7: =+G7-J7-M7 -> 0 | D7: SP-ATT-A.3 | F7: SP-ATT-A.3_L | G7: =SUMIF('2 Pdc unico (segm A)'!$I:$I,F7,'2 Pdc unico (segm A)'!$N:$N) -> 0 | I7: SP-ATT-A.3_FS | J7: =SUMIF('2 Pdc unico (segm A)'!$I:$I,I7,'2 Pdc unico (segm A)'!$N:$N) -> 0 | L7: SP-ATT-A.3_FA | M7: =SUMIF('2 Pdc unico (segm A)'!$I:$I,L7,'2 Pdc unico (segm A)'!$N:$N) -> 0
A8: 4 | B8: Avviamento | C8: =+G8-J8-M8 -> 0 | D8: SP-ATT-A.4 | F8: SP-ATT-A.4_L | G8: =SUMIF('2 Pdc unico (segm A)'!$I:$I,F8,'2 Pdc unico (segm A)'!$N:$N) -> 0 | I8: SP-ATT-A.4_FS | J8: =SUMIF('2 Pdc unico (segm A)'!$I:$I,I8,'2 Pdc unico (segm A)'!$N:$N) -> 0 | L8: SP-ATT-A.4_FA | M8: =SUMIF('2 Pdc unico (segm A)'!$I:$I,L8,'2 Pdc unico (segm A)'!$N:$N) -> 0
A9: 5 | B9: Immobilizzazioni in corso e acconti | C9: =+G9-J9-M9 -> 0 | D9: SP-ATT-A.5 | F9: SP-ATT-A.5_L | G9: =SUMIF('2 Pdc unico (segm A)'!$I:$I,F9,'2 Pdc unico (segm A)'!$N:$N) -> 0 | I9: SP-ATT-A.5_FS | J9: =SUMIF('2 Pdc unico (segm A)'!$I:$I,I9,'2 Pdc unico (segm A)'!$N:$N) -> 0
A10: 6 | B10: Altre | C10: =+G10-J10-M10 -> 0 | D10: SP-ATT-A.6 | F10: SP-ATT-A.6_L | G10: =SUMIF('2 Pdc unico (segm A)'!$I:$I,F10,'2 Pdc unico (segm A)'!$N:$N) -> 0 | I10: SP-ATT-A.6_FS | J10: =SUMIF('2 Pdc unico (segm A)'!$I:$I,I10,'2 Pdc unico (segm A)'!$N:$N) -> 0 | L10: SP-ATT-A.6_FA | M10: =SUMIF('2 Pdc unico (segm A)'!$I:$I,L10,'2 Pdc unico (segm A)'!$N:$N) -> 0
B11: Totale Immobilizzazioni immateriali e avviamento | C11: =SUM(C5:C10) -> 0
A12: B | B12: Immobilizzazioni materiali
A13: 1 | B13: Beni demaniali [2] | C13: =SUM(C14:C25) -> 0
A14: 1.1 | B14: Terreni | C14: =+G14-J14-M14 -> 0 | D14: SP-ATT-B.1.1 | F14: SP-ATT-B.1.1_L | G14: =SUMIF('2 Pdc unico (segm A)'!$I:$I,F14,'2 Pdc unico (segm A)'!$N:$N) -> 0 | I14: SP-ATT-B.1.1_FS | J14: =SUMIF('2 Pdc unico (segm A)'!$I:$I,I14,'2 Pdc unico (segm A)'!$N:$N) -> 0
A15: 1.2 | B15: Fabbricati | C15: =+G15-J15-M15 -> 0 | D15: SP-ATT-B.1.2 | F15: SP-ATT-B.1.2_L | G15: =SUMIF('2 Pdc unico (segm A)'!$I:$I,F15,'2 Pdc unico (segm A)'!$N:$N) -> 0 | I15: SP-ATT-B.1.2_FS | J15: =SUMIF('2 Pdc unico (segm A)'!$I:$I,I15,'2 Pdc unico (segm A)'!$N:$N) -> 0 | L15: SP-ATT-B.1.2_FA | M15: =SUMIF('2 Pdc unico (segm A)'!$I:$I,L15,'2 Pdc unico (segm A)'!$N:$N) -> 0
A16: 1.3 | B16: Strade e autostrade | C16: =+G16-J16-M16 -> 0 | D16: SP-ATT-B.1.3 | F16: SP-ATT-B.1.3_L | G16: =SUMIF('2 Pdc unico (segm A)'!$I:$I,F16,'2 Pdc unico (segm A)'!$N:$N) -> 0 | I16: SP-ATT-B.1.3_FS | J16: =SUMIF('2 Pdc unico (segm A)'!$I:$I,I16,'2 Pdc unico (segm A)'!$N:$N) -> 0 | L16: SP-ATT-B.1.3_FA | M16: =SUMIF('2 Pdc unico (segm A)'!$I:$I,L16,'2 Pdc unico (segm A)'!$N:$N) -> 0
A17: 1.4 | B17: Strade ferrate | C17: =+G17-J17-M17 -> 0 | D17: SP-ATT-B.1.4 | F17: SP-ATT-B.1.4_L | G17: =SUMIF('2 Pdc unico (segm A)'!$I:$I,F17,'2 Pdc unico (segm A)'!$N:$N) -> 0 | I17: SP-ATT-B.1.4_FS | J17: =SUMIF('2 Pdc unico (segm A)'!$I:$I,I17,'2 Pdc unico (segm A)'!$N:$N) -> 0 | L17: SP-ATT-B.1.4_FA | M17: =SUMIF('2 Pdc unico (segm A)'!$I:$I,L17,'2 Pdc unico (segm A)'!$N:$N) -> 0
A18: 1.5 | B18: Opere destinate alla difesa nazionale | C18: =+G18-J18-M18 -> 0 | D18: SP-ATT-B.1.5 | F18: SP-ATT-B.1.5_L | G18: =SUMIF('2 Pdc unico (segm A)'!$I:$I,F18,'2 Pdc unico (segm A)'!$N:$N) -> 0 | I18: SP-ATT-B.1.5_FS | J18: =SUMIF('2 Pdc unico (segm A)'!$I:$I,I18,'2 Pdc unico (segm A)'!$N:$N) -> 0 | L18: SP-ATT-B.1.5_FA | M18: =SUMIF('2 Pdc unico (segm A)'!$I:$I,L18,'2 Pdc unico (segm A)'!$N:$N) -> 0
A19: 1.6 | B19: Porti e aerodromi | C19: =+G19-J19-M19 -> 0 | D19: SP-ATT-B.1.6 | F19: SP-ATT-B.1.6_L | G19: =SUMIF('2 Pdc unico (segm A)'!$I:$I,F19,'2 Pdc unico (segm A)'!$N:$N) -> 0 | I19: SP-ATT-B.1.6_FS | J19: =SUMIF('2 Pdc unico (segm A)'!$I:$I,I19,'2 Pdc unico (segm A)'!$N:$N) -> 0 | L19: SP-ATT-B.1.6_FA | M19: =SUMIF('2 Pdc unico (segm A)'!$I:$I,L19,'2 Pdc unico (segm A)'!$N:$N) -> 0
A20: 1.7 | B20: Acquedotti e infrastrutture idrauliche | C20: =+G20-J20-M20 -> 0 | D20: SP-ATT-B.1.7 | F20: SP-ATT-B.1.7_L | G20: =SUMIF('2 Pdc unico (segm A)'!$I:$I,F20,'2 Pdc unico (segm A)'!$N:$N) -> 0 | I20: SP-ATT-B.1.7_FS | J20: =SUMIF('2 Pdc unico (segm A)'!$I:$I,I20,'2 Pdc unico (segm A)'!$N:$N) -> 0 | L20: SP-ATT-B.1.7_FA | M20: =SUMIF('2 Pdc unico (segm A)'!$I:$I,L20,'2 Pdc unico (segm A)'!$N:$N) -> 0
A21: 1.8 | B21: Beni immobili culturali | C21: =+G21-J21-M21 -> 0 | D21: SP-ATT-B.1.8 | F21: SP-ATT-B.1.8_L | G21: =SUMIF('2 Pdc unico (segm A)'!$I:$I,F21,'2 Pdc unico (segm A)'!$N:$N) -> 0 | I21: SP-ATT-B.1.8_FS | J21: =SUMIF('2 Pdc unico (segm A)'!$I:$I,I21,'2 Pdc unico (segm A)'!$N:$N) -> 0
A22: 1.9 | B22: Beni mobili culturali | C22: =+G22-J22-M22 -> 0 | D22: SP-ATT-B.1.9 | F22: SP-ATT-B.1.9_L | G22: =SUMIF('2 Pdc unico (segm A)'!$I:$I,F22,'2 Pdc unico (segm A)'!$N:$N) -> 0 | I22: SP-ATT-B.1.9_FS | J22: =SUMIF('2 Pdc unico (segm A)'!$I:$I,I22,'2 Pdc unico (segm A)'!$N:$N) -> 0
A23: 1.10 | B23: Cimiteri | C23: =+G23-J23-M23 -> 0 | D23: SP-ATT-B.1.10 | F23: SP-ATT-B.1.10_L | G23: =SUMIF('2 Pdc unico (segm A)'!$I:$I,F23,'2 Pdc unico (segm A)'!$N:$N) -> 0 | I23: SP-ATT-B.1.10_FS | J23: =SUMIF('2 Pdc unico (segm A)'!$I:$I,I23,'2 Pdc unico (segm A)'!$N:$N) -> 0 | L23: SP-ATT-B.1.10_FA | M23: =SUMIF('2 Pdc unico (segm A)'!$I:$I,L23,'2 Pdc unico (segm A)'!$N:$N) -> 0
A24: 1.11 | B24: Mercati | C24: =+G24-J24-M24 -> 0 | D24: SP-ATT-B.1.11 | F24: SP-ATT-B.1.11_L | G24: =SUMIF('2 Pdc unico (segm A)'!$I:$I,F24,'2 Pdc unico (segm A)'!$N:$N) -> 0 | I24: SP-ATT-B.1.11_FS | J24: =SUMIF('2 Pdc unico (segm A)'!$I:$I,I24,'2 Pdc unico (segm A)'!$N:$N) -> 0 | L24: SP-ATT-B.1.11_FA | M24: =SUMIF('2 Pdc unico (segm A)'!$I:$I,L24,'2 Pdc unico (segm A)'!$N:$N) -> 0
A25: 1.12 | B25: Altri | C25: =+G25-J25-M25 -> 0 | D25: SP-ATT-B.1.12 | F25: SP-ATT-B.1.12_L | G25: =SUMIF('2 Pdc unico (segm A)'!$I:$I,F25,'2 Pdc unico (segm A)'!$N:$N) -> 0 | I25: SP-ATT-B.1.12_FS | J25: =SUMIF('2 Pdc unico (segm A)'!$I:$I,I25,'2 Pdc unico (segm A)'!$N:$N) -> 0 | L25: SP-ATT-B.1.12_FA | M25: =SUMIF('2 Pdc unico (segm A)'!$I:$I,L25,'2 Pdc unico (segm A)'!$N:$N) -> 0
A26: 2 | B26: Beni patrimoniali indisponibili [2] | C26: =SUM(C27:C38) -> 0
A27: 2.1 | B27: Terreni | C27: =+G27-J27-M27 -> 0 | D27: SP-ATT-B.2.1 | F27: SP-ATT-B.2.1_L | G27: =SUMIF('2 Pdc unico (segm A)'!$I:$I,F27,'2 Pdc unico (segm A)'!$N:$N) -> 0 | I27: SP-ATT-B.2.1_FS | J27: =SUMIF('2 Pdc unico (segm A)'!$I:$I,I27,'2 Pdc unico (segm A)'!$N:$N) -> 0
A28: 2.2 | B28: Mobili e arredi | C28: =+G28-J28-M28 -> 0 | D28: SP-ATT-B.2.2 | F28: SP-ATT-B.2.2_L | G28: =SUMIF('2 Pdc unico (segm A)'!$I:$I,F28,'2 Pdc unico (segm A)'!$N:$N) -> 0 | I28: SP-ATT-B.2.2_FS | J28: =SUMIF('2 Pdc unico (segm A)'!$I:$I,I28,'2 Pdc unico (segm A)'!$N:$N) -> 0 | L28: SP-ATT-B.2.2_FA | M28: =SUMIF('2 Pdc unico (segm A)'!$I:$I,L28,'2 Pdc unico (segm A)'!$N:$N) -> 0
A29: 2.3 | B29: Fabbricati destinati a sede di pubblici uffici | C29: =+G29-J29-M29 -> 0 | D29: SP-ATT-B.2.3 | F29: SP-ATT-B.2.3_L | G29: =SUMIF('2 Pdc unico (segm A)'!$I:$I,F29,'2 Pdc unico (segm A)'!$N:$N) -> 0 | I29: SP-ATT-B.2.3_FS | J29: =SUMIF('2 Pdc unico (segm A)'!$I:$I,I29,'2 Pdc unico (segm A)'!$N:$N) -> 0 | L29: SP-ATT-B.2.3_FA | M29: =SUMIF('2 Pdc unico (segm A)'!$I:$I,L29,'2 Pdc unico (segm A)'!$N:$N) -> 0
A30: 2.4 | B30: Impianti e macchinari | C30: =+G30-J30-M30 -> 0 | D30: SP-ATT-B.2.4 | F30: SP-ATT-B.2.4_L | G30: =SUMIF('2 Pdc unico (segm A)'!$I:$I,F30,'2 Pdc unico (segm A)'!$N:$N) -> 0 | I30: SP-ATT-B.2.4_FS | J30: =SUMIF('2 Pdc unico (segm A)'!$I:$I,I30,'2 Pdc unico (segm A)'!$N:$N) -> 0 | L30: SP-ATT-B.2.4_FA | M30: =SUMIF('2 Pdc unico (segm A)'!$I:$I,L30,'2 Pdc unico (segm A)'!$N:$N) -> 0
A31: 2.5 | B31: Attrezzature | C31: =+G31-J31-M31 -> 0 | D31: SP-ATT-B.2.5 | F31: SP-ATT-B.2.5_L | G31: =SUMIF('2 Pdc unico (segm A)'!$I:$I,F31,'2 Pdc unico (segm A)'!$N:$N) -> 0 | I31: SP-ATT-B.2.5_FS | J31: =SUMIF('2 Pdc unico (segm A)'!$I:$I,I31,'2 Pdc unico (segm A)'!$N:$N) -> 0 | L31: SP-ATT-B.2.5_FA | M31: =SUMIF('2 Pdc unico (segm A)'!$I:$I,L31,'2 Pdc unico (segm A)'!$N:$N) -> 0
A32: 2.6 | B32: Mezzi di trasporto | C32: =+G32-J32-M32 -> 0 | D32: SP-ATT-B.2.6 | F32: SP-ATT-B.2.6_L | G32: =SUMIF('2 Pdc unico (segm A)'!$I:$I,F32,'2 Pdc unico (segm A)'!$N:$N) -> 0 | I32: SP-ATT-B.2.6_FS | J32: =SUMIF('2 Pdc unico (segm A)'!$I:$I,I32,'2 Pdc unico (segm A)'!$N:$N) -> 0 | L32: SP-ATT-B.2.6_FA | M32: =SUMIF('2 Pdc unico (segm A)'!$I:$I,L32,'2 Pdc unico (segm A)'!$N:$N) -> 0
A33: 2.7 | B33: Macchine per ufficio e hardware | C33: =+G33-J33-M33 -> 0 | D33: SP-ATT-B.2.7 | F33: SP-ATT-B.2.7_L | G33: =SUMIF('2 Pdc unico (segm A)'!$I:$I,F33,'2 Pdc unico (segm A)'!$N:$N) -> 0 | I33: SP-ATT-B.2.7_FS | J33: =SUMIF('2 Pdc unico (segm A)'!$I:$I,I33,'2 Pdc unico (segm A)'!$N:$N) -> 0 | L33: SP-ATT-B.2.7_FA | M33: =SUMIF('2 Pdc unico (segm A)'!$I:$I,L33,'2 Pdc unico (segm A)'!$N:$N) -> 0
A34: 2.8 | B34: Miniere, cave e torbiere | C34: =+G34-J34-M34 -> 0 | D34: SP-ATT-B.2.8 | F34: SP-ATT-B.2.8_L | G34: =SUMIF('2 Pdc unico (segm A)'!$I:$I,F34,'2 Pdc unico (segm A)'!$N:$N) -> 0 | I34: SP-ATT-B.2.8_FS | J34: =SUMIF('2 Pdc unico (segm A)'!$I:$I,I34,'2 Pdc unico (segm A)'!$N:$N) -> 0 | L34: SP-ATT-B.2.8_FA
A35: 2.9 | B35: Caserme | C35: =+G35-J35-M35 -> 0 | D35: SP-ATT-B.2.9 | F35: SP-ATT-B.2.9_L | G35: =SUMIF('2 Pdc unico (segm A)'!$I:$I,F35,'2 Pdc unico (segm A)'!$N:$N) -> 0 | I35: SP-ATT-B.2.9_FS | J35: =SUMIF('2 Pdc unico (segm A)'!$I:$I,I35,'2 Pdc unico (segm A)'!$N:$N) -> 0 | L35: SP-ATT-B.2.9_FA | M35: =SUMIF('2 Pdc unico (segm A)'!$I:$I,L35,'2 Pdc unico (segm A)'!$N:$N) -> 0
A36: 2.10 | B36: Armamenti, aeromobili militari e navi da guerra | C36: =+G36-J36-M36 -> 0 | D36: SP-ATT-B.2.10 | F36: SP-ATT-B.2.10_L | G36: =SUMIF('2 Pdc unico (segm A)'!$I:$I,F36,'2 Pdc unico (segm A)'!$N:$N) -> 0 | I36: SP-ATT-B.2.10_FS | J36: =SUMIF('2 Pdc unico (segm A)'!$I:$I,I36,'2 Pdc unico (segm A)'!$N:$N) -> 0 | L36: SP-ATT-B.2.10_FA | M36: =SUMIF('2 Pdc unico (segm A)'!$I:$I,L36,'2 Pdc unico (segm A)'!$N:$N) -> 0
A37: 2.11 | B37: Beni culturali | C37: =+G37-J37-M37 -> 0 | D37: SP-ATT-B.2.11 | F37: SP-ATT-B.2.11_L | G37: =SUMIF('2 Pdc unico (segm A)'!$I:$I,F37,'2 Pdc unico (segm A)'!$N:$N) -> 0 | I37: SP-ATT-B.2.11_FS | J37: =SUMIF('2 Pdc unico (segm A)'!$I:$I,I37,'2 Pdc unico (segm A)'!$N:$N) -> 0
A38: 2.9 | B38: Altri | C38: =+G38-J38-M38 -> 0 | D38: SP-ATT-B.2.12 | F38: SP-ATT-B.2.12_L | G38: =SUMIF('2 Pdc unico (segm A)'!$I:$I,F38,'2 Pdc unico (segm A)'!$N:$N) -> 0 | I38: SP-ATT-B.2.12_FS | J38: =SUMIF('2 Pdc unico (segm A)'!$I:$I,I38,'2 Pdc unico (segm A)'!$N:$N) -> 0 | L38: SP-ATT-B.2.12_FA | M38: =SUMIF('2 Pdc unico (segm A)'!$I:$I,L38,'2 Pdc unico (segm A)'!$N:$N) -> 0
A39: 3 | B39: Beni patrimoniali disponibili [1] | C39: =SUM(C40:C49) -> 0
A40: 3.1 | B40: Investimenti immobiliari | C40: =+G40-J40-M40 -> 0 | D40: SP-ATT-B.3.1 | F40: SP-ATT-B.3.1_L | G40: =SUMIF('2 Pdc unico (segm A)'!$I:$I,F40,'2 Pdc unico (segm A)'!$N:$N) -> 0 | I40: SP-ATT-B.3.1_FS | J40: =SUMIF('2 Pdc unico (segm A)'!$I:$I,I40,'2 Pdc unico (segm A)'!$N:$N) -> 0 | L40: SP-ATT-B.3.1_FA | M40: =SUMIF('2 Pdc unico (segm A)'!$I:$I,L40,'2 Pdc unico (segm A)'!$N:$N) -> 0
...

Sheet 4 Schema aggiuntivo SP
A1: ITAS 1_ ALL. 1 STATO PATRIMONIALE - schema aggiuntivo con dettagli relativi alle note apposte sullo schema di SP: [1],[2],[3],[4],[5]
A2: A T T I V O | C2: Anno 2025 (dati in €) | D2: Codice
A3: ATTIVITÀ NON CORRENTI - Dettagli importi relativi alle note [1] e [2] | F3: Immobilizazioni lorde - dettagli importi relativi alla nota [1] - beni in concessione e [2] - beni acquisiti in leasing fin | I3: FONDI SVALUTAZIONE - dettagli importi relativi alla nota [1] - beni in concessione e [2] - beni acquisiti in leasing fin | L3: FONDI AMMORTAMENTO - dettagli importi relativi alla nota [1] - beni in concessione e [2] - beni acquisiti in leasing fin
A4: A | B4: Immobilizzazioni immateriali e avviamento [1] - DETTAGLIO BENI IN CONCESSIONE
A5: 1 | B5: Diritti di brevetto e utilizzazione opere dell'ingegno | C5: =+G5-J5-M5 -> 0 | D5: SP-ATT-A.1_conc | F5: SP-ATT-A.1_L_conc | G5: =SUMIF('2 Pdc unico (segm A)'!$I:$I,F5,'2 Pdc unico (segm A)'!$N:$N) -> 0 | I5: SP-ATT-A.1_FS_conc | J5: =SUMIF('2 Pdc unico (segm A)'!$I:$I,I5,'2 Pdc unico (segm A)'!$N:$N) -> 0 | L5: SP-ATT-A.1_FA_conc | M5: =SUMIF('2 Pdc unico (segm A)'!$I:$I,L5,'2 Pdc unico (segm A)'!$N:$N) -> 0
A6: 2 | B6: Concessioni, licenze, marchi | C6: =+G6-J6-M6 -> 0 | D6: SP-ATT-A.2_conc | F6: SP-ATT-A.2_L_conc | G6: =SUMIF('2 Pdc unico (segm A)'!$I:$I,F6,'2 Pdc unico (segm A)'!$N:$N) -> 0 | I6: SP-ATT-A.2_FS_conc | J6: =SUMIF('2 Pdc unico (segm A)'!$I:$I,I6,'2 Pdc unico (segm A)'!$N:$N) -> 0 | L6: SP-ATT-A.2_FA_conc | M6: =SUMIF('2 Pdc unico (segm A)'!$I:$I,L6,'2 Pdc unico (segm A)'!$N:$N) -> 0
A7: 3 | B7: Altri diritti | C7: =+G7-J7-M7 -> 0 | D7: SP-ATT-A.3_conc | F7: SP-ATT-A.3_L_conc | G7: =SUMIF('2 Pdc unico (segm A)'!$I:$I,F7,'2 Pdc unico (segm A)'!$N:$N) -> 0 | I7: SP-ATT-A.3_FS_conc | J7: =SUMIF('2 Pdc unico (segm A)'!$I:$I,I7,'2 Pdc unico (segm A)'!$N:$N) -> 0 | L7: SP-ATT-A.3_FA_conc | M7: =SUMIF('2 Pdc unico (segm A)'!$I:$I,L7,'2 Pdc unico (segm A)'!$N:$N) -> 0
A8: 4 | B8: Avviamento | C8: =+G8-J8-M8 -> 0 | D8: SP-ATT-A.4_conc | F8: SP-ATT-A.4_L_conc | G8: =SUMIF('2 Pdc unico (segm A)'!$I:$I,F8,'2 Pdc unico (segm A)'!$N:$N) -> 0 | I8: SP-ATT-A.4_FS_conc | J8: =SUMIF('2 Pdc unico (segm A)'!$I:$I,I8,'2 Pdc unico (segm A)'!$N:$N) -> 0 | L8: SP-ATT-A.4_FA_conc | M8: =SUMIF('2 Pdc unico (segm A)'!$I:$I,L8,'2 Pdc unico (segm A)'!$N:$N) -> 0
A9: 5 | B9: Immobilizzazioni in corso e acconti | C9: =+G9-J9-M9 -> 0 | D9: SP-ATT-A.5_conc
A10: 6 | B10: Altre | C10: =+G10-J10-M10 -> 0 | D10: SP-ATT-A.6_conc | F10: SP-ATT-A.6_L_conc | G10: =SUMIF('2 Pdc unico (segm A)'!$I:$I,F10,'2 Pdc unico (segm A)'!$N:$N) -> 0 | I10: SP-ATT-A.6_FS_conc | J10: =SUMIF('2 Pdc unico (segm A)'!$I:$I,I10,'2 Pdc unico (segm A)'!$N:$N) -> 0 | L10: SP-ATT-A.6_FA_conc | M10: =SUMIF('2 Pdc unico (segm A)'!$I:$I,L10,'2 Pdc unico (segm A)'!$N:$N) -> 0
A11: A | B11: Immobilizzazioni immateriali e avviamento [2] - DETTAGLIO BENI ACQUISITI IN LEASING FINANZIARIO
A12: 1 | B12: Diritti di brevetto e utilizzazione opere dell'ingegno | C12: =+G12-J12-M12 -> 0 | D12: SP-ATT-A.1_leas | F12: SP-ATT-A.1_L_leas | G12: =SUMIF('2 Pdc unico (segm A)'!$I:$I,F12,'2 Pdc unico (segm A)'!$N:$N) -> 0 | I12: SP-ATT-A.1_FS_leas | J12: =SUMIF('2 Pdc unico (segm A)'!$I:$I,I12,'2 Pdc unico (segm A)'!$N:$N) -> 0 | L12: SP-ATT-A.1_FA_leas | M12: =SUMIF('2 Pdc unico (segm A)'!$I:$I,L12,'2 Pdc unico (segm A)'!$N:$N) -> 0
A13: 2 | B13: Concessioni, licenze, marchi | C13: =+G13-J13-M13 -> 0 | D13: SP-ATT-A.2_leas | F13: SP-ATT-A.2_L_leas | G13: =SUMIF('2 Pdc unico (segm A)'!$I:$I,F13,'2 Pdc unico (segm A)'!$N:$N) -> 0 | I13: SP-ATT-A.2_FS_leas | J13: =SUMIF('2 Pdc unico (segm A)'!$I:$I,I13,'2 Pdc unico (segm A)'!$N:$N) -> 0 | L13: SP-ATT-A.2_FA_leas | M13: =SUMIF('2 Pdc unico (segm A)'!$I:$I,L13,'2 Pdc unico (segm A)'!$N:$N) -> 0
A14: 3 | B14: Altri diritti | C14: =+G14-J14-M14 -> 0 | D14: SP-ATT-A.3_leas | F14: SP-ATT-A.3_L_leas | G14: =SUMIF('2 Pdc unico (segm A)'!$I:$I,F14,'2 Pdc unico (segm A)'!$N:$N) -> 0 | I14: SP-ATT-A.3_FS_leas | J14: =SUMIF('2 Pdc unico (segm A)'!$I:$I,I14,'2 Pdc unico (segm A)'!$N:$N) -> 0 | L14: SP-ATT-A.3_FA_leas | M14: =SUMIF('2 Pdc unico (segm A)'!$I:$I,L14,'2 Pdc unico (segm A)'!$N:$N) -> 0
A15: 4 | B15: Avviamento | C15: =+G15-J15-M15 -> 0 | D15: SP-ATT-A.4_leas | F15: SP-ATT-A.4_L_leas | G15: =SUMIF('2 Pdc unico (segm A)'!$I:$I,F15,'2 Pdc unico (segm A)'!$N:$N) -> 0 | I15: SP-ATT-A.4_FS_leas | J15: =SUMIF('2 Pdc unico (segm A)'!$I:$I,I15,'2 Pdc unico (segm A)'!$N:$N) -> 0 | L15: SP-ATT-A.4_FA_leas | M15: =SUMIF('2 Pdc unico (segm A)'!$I:$I,L15,'2 Pdc unico (segm A)'!$N:$N) -> 0
A16: 5 | B16: Immobilizzazioni in corso e acconti | C16: =+G16-J16-M16 -> 0 | D16: SP-ATT-A.5_leas
A17: 6 | B17: Altre | C17: =+G17-J17-M17 -> 0 | D17: SP-ATT-A.6_leas | F17: SP-ATT-A.6_L_leas | G17: =SUMIF('2 Pdc unico (segm A)'!$I:$I,F17,'2 Pdc unico (segm A)'!$N:$N) -> 0 | I17: SP-ATT-A.6_FS_leas | J17: =SUMIF('2 Pdc unico (segm A)'!$I:$I,I17,'2 Pdc unico (segm A)'!$N:$N) -> 0 | L17: SP-ATT-A.6_FA_leas | M17: =SUMIF('2 Pdc unico (segm A)'!$I:$I,L17,'2 Pdc unico (segm A)'!$N:$N) -> 0
A18: B | B18: Immobilizzazioni materiali
A19: 1 | B19: Beni demaniali [1] - DETTAGLIO BENI IN CONCESSIONE
A20: 1.1 | B20: Terreni | C20: =+G20-J20-M20 -> 0 | D20: SP-ATT-B.1.1_conc | F20: SP-ATT-B.1.1_L_conc | G20: =SUMIF('2 Pdc unico (segm A)'!$I:$I,F20,'2 Pdc unico (segm A)'!$N:$N) -> 0 | I20: SP-ATT-B.1.1_FS_conc | J20: =SUMIF('2 Pdc unico (segm A)'!$I:$I,I20,'2 Pdc unico (segm A)'!$N:$N) -> 0
A21: 1.2 | B21: Fabbricati | C21: =+G21-J21-M21 -> 0 | D21: SP-ATT-B.1.2_conc | F21: SP-ATT-B.1.2_L_conc | G21: =SUMIF('2 Pdc unico (segm A)'!$I:$I,F21,'2 Pdc unico (segm A)'!$N:$N) -> 0 | I21: SP-ATT-B.1.2_FS_conc | J21: =SUMIF('2 Pdc unico (segm A)'!$I:$I,I21,'2 Pdc unico (segm A)'!$N:$N) -> 0 | L21: SP-ATT-B.1.2_FA_conc | M21: =SUMIF('2 Pdc unico (segm A)'!$I:$I,L21,'2 Pdc unico (segm A)'!$N:$N) -> 0
A22: 1.3 | B22: Strade e autostrade | C22: =+G22-J22-M22 -> 0 | D22: SP-ATT-B.1.3_conc | F22: SP-ATT-B.1.3_L_conc | G22: =SUMIF('2 Pdc unico (segm A)'!$I:$I,F22,'2 Pdc unico (segm A)'!$N:$N) -> 0 | I22: SP-ATT-B.1.3_FS_conc | J22: =SUMIF('2 Pdc unico (segm A)'!$I:$I,I22,'2 Pdc unico (segm A)'!$N:$N) -> 0 | L22: SP-ATT-B.1.3_FA_conc | M22: =SUMIF('2 Pdc unico (segm A)'!$I:$I,L22,'2 Pdc unico (segm A)'!$N:$N) -> 0
A23: 1.4 | B23: Strade ferrate | C23: =+G23-J23-M23 -> 0 | D23: SP-ATT-B.1.4_conc | F23: SP-ATT-B.1.4_L_conc | G23: =SUMIF('2 Pdc unico (segm A)'!$I:$I,F23,'2 Pdc unico (segm A)'!$N:$N) -> 0 | I23: SP-ATT-B.1.4_FS_conc | J23: =SUMIF('2 Pdc unico (segm A)'!$I:$I,I23,'2 Pdc unico (segm A)'!$N:$N) -> 0 | L23: SP-ATT-B.1.4_FA_conc | M23: =SUMIF('2 Pdc unico (segm A)'!$I:$I,L23,'2 Pdc unico (segm A)'!$N:$N) -> 0
A24: 1.5 | B24: Opere destinate alla difesa nazionale | C24: =+G24-J24-M24 -> 0 | D24: SP-ATT-B.1.5_conc | F24: SP-ATT-B.1.5_L_conc | G24: =SUMIF('2 Pdc unico (segm A)'!$I:$I,F24,'2 Pdc unico (segm A)'!$N:$N) -> 0 | I24: SP-ATT-B.1.5_FS_conc | J24: =SUMIF('2 Pdc unico (segm A)'!$I:$I,I24,'2 Pdc unico (segm A)'!$N:$N) -> 0 | L24: SP-ATT-B.1.5_FA_conc | M24: =SUMIF('2 Pdc unico (segm A)'!$I:$I,L24,'2 Pdc unico (segm A)'!$N:$N) -> 0
A25: 1.6 | B25: Porti e aerodromi | C25: =+G25-J25-M25 -> 0 | D25: SP-ATT-B.1.6_conc | F25: SP-ATT-B.1.6_L_conc | G25: =SUMIF('2 Pdc unico (segm A)'!$I:$I,F25,'2 Pdc unico (segm A)'!$N:$N) -> 0 | I25: SP-ATT-B.1.6_FS_conc | J25: =SUMIF('2 Pdc unico (segm A)'!$I:$I,I25,'2 Pdc unico (segm A)'!$N:$N) -> 0 | L25: SP-ATT-B.1.6_FA_conc | M25: =SUMIF('2 Pdc unico (segm A)'!$I:$I,L25,'2 Pdc unico (segm A)'!$N:$N) -> 0
A26: 1.7 | B26: Acquedotti e infrastrutture idrauliche | C26: =+G26-J26-M26 -> 0 | D26: SP-ATT-B.1.7_conc | F26: SP-ATT-B.1.7_L_conc | G26: =SUMIF('2 Pdc unico (segm A)'!$I:$I,F26,'2 Pdc unico (segm A)'!$N:$N) -> 0 | I26: SP-ATT-B.1.7_FS_conc | J26: =SUMIF('2 Pdc unico (segm A)'!$I:$I,I26,'2 Pdc unico (segm A)'!$N:$N) -> 0 | L26: SP-ATT-B.1.7_FA_conc | M26: =SUMIF('2 Pdc unico (segm A)'!$I:$I,L26,'2 Pdc unico (segm A)'!$N:$N) -> 0
A27: 1.8 | B27: Beni immobili culturali | C27: =+G27-J27-M27 -> 0 | D27: SP-ATT-B.1.8_conc | F27: SP-ATT-B.1.8_L_conc | G27: =SUMIF('2 Pdc unico (segm A)'!$I:$I,F27,'2 Pdc unico (segm A)'!$N:$N) -> 0 | I27: SP-ATT-B.1.8_FS_conc | J27: =SUMIF('2 Pdc unico (segm A)'!$I:$I,I27,'2 Pdc unico (segm A)'!$N:$N) -> 0
A28: 1.9 | B28: Beni mobili culturali | C28: =+G28-J28-M28 -> 0 | D28: SP-ATT-B.1.9_conc | F28: SP-ATT-B.1.9_L_conc | G28: =SUMIF('2 Pdc unico (segm A)'!$I:$I,F28,'2 Pdc unico (segm A)'!$N:$N) -> 0 | I28: SP-ATT-B.1.9_FS_conc | J28: =SUMIF('2 Pdc unico (segm A)'!$I:$I,I28,'2 Pdc unico (segm A)'!$N:$N) -> 0
A29: 1.10 | B29: Cimiteri | C29: =+G29-J29-M29 -> 0 | D29: SP-ATT-B.1.10_conc | F29: SP-ATT-B.1.10_L_conc | G29: =SUMIF('2 Pdc unico (segm A)'!$I:$I,F29,'2 Pdc unico (segm A)'!$N:$N) -> 0 | I29: SP-ATT-B.1.10_FS_conc | J29: =SUMIF('2 Pdc unico (segm A)'!$I:$I,I29,'2 Pdc unico (segm A)'!$N:$N) -> 0 | L29: SP-ATT-B.1.10_FA_conc | M29: =SUMIF('2 Pdc unico (segm A)'!$I:$I,L29,'2 Pdc unico (segm A)'!$N:$N) -> 0
A30: 1.11 | B30: Mercati | C30: =+G30-J30-M30 -> 0 | D30: SP-ATT-B.1.11_conc | F30: SP-ATT-B.1.11_L_conc | G30: =SUMIF('2 Pdc unico (segm A)'!$I:$I,F30,'2 Pdc unico (segm A)'!$N:$N) -> 0 | I30: SP-ATT-B.1.11_FS_conc | J30: =SUMIF('2 Pdc unico (segm A)'!$I:$I,I30,'2 Pdc unico (segm A)'!$N:$N) -> 0 | L30: SP-ATT-B.1.11_FA_conc | M30: =SUMIF('2 Pdc unico (segm A)'!$I:$I,L30,'2 Pdc unico (segm A)'!$N:$N) -> 0
A31: 1.12 | B31: Altri | C31: =+G31-J31-M31 -> 0 | D31: SP-ATT-B.1.12_conc | F31: SP-ATT-B.1.12_L_conc | G31: =SUMIF('2 Pdc unico (segm A)'!$I:$I,F31,'2 Pdc unico (segm A)'!$N:$N) -> 0 | I31: SP-ATT-B.1.12_FS_conc | J31: =SUMIF('2 Pdc unico (segm A)'!$I:$I,I31,'2 Pdc unico (segm A)'!$N:$N) -> 0 | L31: SP-ATT-B.1.12_FA_conc | M31: =SUMIF('2 Pdc unico (segm A)'!$I:$I,L31,'2 Pdc unico (segm A)'!$N:$N) -> 0
A32: 2 | B32: Beni patrimoniali indisponibili [1] - DETTAGLIO BENI IN CONCESSIONE
A33: 2.1 | B33: Terreni | C33: =+G33-J33-M33 -> 0 | D33: SP-ATT-B.2.1_conc | F33: SP-ATT-B.2.1_L_conc | G33: =SUMIF('2 Pdc unico (segm A)'!$I:$I,F33,'2 Pdc unico (segm A)'!$N:$N) -> 0 | I33: SP-ATT-B.2.1_FS_conc | J33: =SUMIF('2 Pdc unico (segm A)'!$I:$I,I33,'2 Pdc unico (segm A)'!$N:$N) -> 0
A34: 2.2 | B34: Mobili e arredi | C34: =+G34-J34-M34 -> 0 | D34: SP-ATT-B.2.2_conc | F34: SP-ATT-B.2.2_L_conc | G34: =SUMIF('2 Pdc unico (segm A)'!$I:$I,F34,'2 Pdc unico (segm A)'!$N:$N) -> 0 | I34: SP-ATT-B.2.2_FS_conc | J34: =SUMIF('2 Pdc unico (segm A)'!$I:$I,I34,'2 Pdc unico (segm A)'!$N:$N) -> 0 | L34: SP-ATT-B.2.2_FA_conc | M34: =SUMIF('2 Pdc unico (segm A)'!$I:$I,L34,'2 Pdc unico (segm A)'!$N:$N) -> 0
A35: 2.3 | B35: Fabbricati destinati a sede di pubblici uffici | C35: =+G35-J35-M35 -> 0 | D35: SP-ATT-B.2.3_conc | F35: SP-ATT-B.2.3_L_conc | G35: =SUMIF('2 Pdc unico (segm A)'!$I:$I,F35,'2 Pdc unico (segm A)'!$N:$N) -> 0 | I35: SP-ATT-B.2.3_FS_conc | J35: =SUMIF('2 Pdc unico (segm A)'!$I:$I,I35,'2 Pdc unico (segm A)'!$N:$N) -> 0 | L35: SP-ATT-B.2.3_FA_conc | M35: =SUMIF('2 Pdc unico (segm A)'!$I:$I,L35,'2 Pdc unico (segm A)'!$N:$N) -> 0
A36: 2.4 | B36: Impianti e macchinari | C36: =+G36-J36-M36 -> 0 | D36: SP-ATT-B.2.4_conc | F36: SP-ATT-B.2.4_L_conc | G36: =SUMIF('2 Pdc unico (segm A)'!$I:$I,F36,'2 Pdc unico (segm A)'!$N:$N) -> 0 | I36: SP-ATT-B.2.4_FS_conc | J36: =SUMIF('2 Pdc unico (segm A)'!$I:$I,I36,'2 Pdc unico (segm A)'!$N:$N) -> 0 | L36: SP-ATT-B.2.4_FA_conc | M36: =SUMIF('2 Pdc unico (segm A)'!$I:$I,L36,'2 Pdc unico (segm A)'!$N:$N) -> 0
A37: 2.5 | B37: Attrezzature | C37: =+G37-J37-M37 -> 0 | D37: SP-ATT-B.2.5_conc | F37: SP-ATT-B.2.5_L_conc | G37: =SUMIF('2 Pdc unico (segm A)'!$I:$I,F37,'2 Pdc unico (segm A)'!$N:$N) -> 0 | I37: SP-ATT-B.2.5_FS_conc | J37: =SUMIF('2 Pdc unico (segm A)'!$I:$I,I37,'2 Pdc unico (segm A)'!$N:$N) -> 0 | L37: SP-ATT-B.2.5_FA_conc | M37: =SUMIF('2 Pdc unico (segm A)'!$I:$I,L37,'2 Pdc unico (segm A)'!$N:$N) -> 0
A38: 2.6 | B38: Mezzi di trasporto | C38: =+G38-J38-M38 -> 0 | D38: SP-ATT-B.2.6_conc | F38: SP-ATT-B.2.6_L_conc | G38: =SUMIF('2 Pdc unico (segm A)'!$I:$I,F38,'2 Pdc unico (segm A)'!$N:$N) -> 0 | I38: SP-ATT-B.2.6_FS_conc | J38: =SUMIF('2 Pdc unico (segm A)'!$I:$I,I38,'2 Pdc unico (segm A)'!$N:$N) -> 0 | L38: SP-ATT-B.2.6_FA_conc | M38: =SUMIF('2 Pdc unico (segm A)'!$I:$I,L38,'2 Pdc unico (segm A)'!$N:$N) -> 0
A39: 2.7 | B39: Macchine per ufficio e hardware | C39: =+G39-J39-M39 -> 0 | D39: SP-ATT-B.2.7_conc | F39: SP-ATT-B.2.7_L_conc | G39: =SUMIF('2 Pdc unico (segm A)'!$I:$I,F39,'2 Pdc unico (segm A)'!$N:$N) -> 0 | I39: SP-ATT-B.2.7_FS_conc | J39: =SUMIF('2 Pdc unico (segm A)'!$I:$I,I39,'2 Pdc unico (segm A)'!$N:$N) -> 0 | L39: SP-ATT-B.2.7_FA_conc | M39: =SUMIF('2 Pdc unico (segm A)'!$I:$I,L39,'2 Pdc unico (segm A)'!$N:$N) -> 0
A40: 2.8 | B40: Miniere, cave e torbiere | C40: =+G40-J40-M40 -> 0 | D40: SP-ATT-B.2.8_conc | F40: SP-ATT-B.2.8_L_conc | G40: =SUMIF('2 Pdc unico (segm A)'!$I:$I,F40,'2 Pdc unico (segm A)'!$N:$N) -> 0 | I40: SP-ATT-B.2.8_FS_conc | J40: =SUMIF('2 Pdc unico (segm A)'!$I:$I,I40,'2 Pdc unico (segm A)'!$N:$N) -> 0 | L40: SP-ATT-B.2.8_FA_conc | M40: =SUMIF('2 Pdc unico (segm A)'!$I:$I,L40,'2 Pdc unico (segm A)'!$N:$N) -> 0
...

Sheet 5 Conto Economico-All2 ITAS1
A1: ITAS 1_ ALL. 2 CONTO ECONOMICO
A2: CONTO ECONOMICO | C2: Anno 2025 (dati in €) | E2: Codice
A3: A) PROVENTI E RICAVI DELLA GESTIONE OPERATIVA
A4: 1 | B4: Proventi da tributi | C4: =SUMIF('2 Pdc unico (segm A)'!$I:$I,$E4,'2 Pdc unico (segm A)'!$N:$N) -> 0 | E4: CE-A.1
A5: 2 | B5: Proventi da contributi per prestazioni sociali | C5: =SUMIF('2 Pdc unico (segm A)'!$I:$I,$E5,'2 Pdc unico (segm A)'!$N:$N) -> 0 | E5: CE-A.2
A6: 3 | B6: Trasferimenti | C6: =+C7+C8 -> 0
A7: 3.1 | B7: Trasferimenti attivi in conto esercizio | C7: =SUMIF('2 Pdc unico (segm A)'!$I:$I,$E7,'2 Pdc unico (segm A)'!$N:$N) -> 0 | E7: CE-A.3.1
A8: 3.2 | B8: Trasferimenti attivi in conto investimenti | C8: =SUMIF('2 Pdc unico (segm A)'!$I:$I,$E8,'2 Pdc unico (segm A)'!$N:$N) -> 0 | E8: CE-A.3.2
A9: 4 | B9: Ricavi delle vendite e prestazioni e proventi da servizi pubblici | C9: =SUM(C10+C11+C12) -> 0
A10: 4.1 | B10: Ricavi della vendita di beni | C10: =SUMIF('2 Pdc unico (segm A)'!$I:$I,$E10,'2 Pdc unico (segm A)'!$N:$N) -> 0 | E10: CE-A.4.1
A11: 4.2 | B11: Ricavi e proventi dalla prestazione di servizi | C11: =SUMIF('2 Pdc unico (segm A)'!$I:$I,$E11,'2 Pdc unico (segm A)'!$N:$N) -> 0 | E11: CE-A.4.2
A12: 4.3 | B12: Ricavi per lavori in corso su ordinazione | C12: =SUMIF('2 Pdc unico (segm A)'!$I:$I,$E12,'2 Pdc unico (segm A)'!$N:$N) -> 0 | E12: CE-A.4.3
A13: 5 | B13: Ricavi da partecipazioni | C13: =SUMIF('2 Pdc unico (segm A)'!$I:$I,$E13,'2 Pdc unico (segm A)'!$N:$N) -> 0 | E13: CE-A.5
A14: 6 | B14: Altri proventi e ricavi diversi | C14: =SUMIF('2 Pdc unico (segm A)'!$I:$I,$E14,'2 Pdc unico (segm A)'!$N:$N) -> 0 | E14: CE-A.6
A15: TOTALE PROVENTI E RICAVI DELLA GESTIONE OPERATIVA (A) | C15: =SUM(C4+C5+C6+C9+C13+C14) -> 0
A16: B) COSTI E ONERI DELLA GESTIONE OPERATIVA
A17: 7 | B17: Acquisto di materie prime, materiali di consumo e merci | C17: =SUMIF('2 Pdc unico (segm A)'!$I:$I,$E17,'2 Pdc unico (segm A)'!$N:$N) -> 0 | E17: CE-B.7
A18: 8 | B18: (+/-) Variazioni delle rimanenze di materie prime, materiali di consumo e merci | C18: =SUMIF('2 Pdc unico (segm A)'!$I:$I,$E18,'2 Pdc unico (segm A)'!$N:$N) -> 0 | E18: CE-B.8
A19: 9 | B19: Acquisto di servizi | C19: =SUMIF('2 Pdc unico (segm A)'!$I:$I,$E19,'2 Pdc unico (segm A)'!$N:$N) -> 0 | E19: CE-B.9
A20: 10 | B20: Utilizzo di beni di terzi | C20: =SUMIF('2 Pdc unico (segm A)'!$I:$I,$E20,'2 Pdc unico (segm A)'!$N:$N) -> 0 | E20: CE-B.10
A21: 11 | B21: Trasferimenti | C21: =SUM(C22+C23) -> 0
A22: 11.1 | B22: Trasferimenti in conto esercizio | C22: =SUMIF('2 Pdc unico (segm A)'!$I:$I,$E22,'2 Pdc unico (segm A)'!$N:$N) -> 0 | E22: CE-B.11.1
A23: 11.2 | B23: Trasferimenti in conto investimenti | C23: =SUMIF('2 Pdc unico (segm A)'!$I:$I,$E23,'2 Pdc unico (segm A)'!$N:$N) -> 0 | E23: CE-B.11.2
A24: 12 | B24: Personale | C24: =SUMIF('2 Pdc unico (segm A)'!$I:$I,$E24,'2 Pdc unico (segm A)'!$N:$N) -> 0 | E24: CE-B.12
A25: 13 | B25: Ammortamenti | C25: =SUMIF('2 Pdc unico (segm A)'!$I:$I,$E25,'2 Pdc unico (segm A)'!$N:$N) -> 0 | E25: CE-B.13
A26: 14 | B26: Accantonamenti | C26: =SUMIF('2 Pdc unico (segm A)'!$I:$I,$E26,'2 Pdc unico (segm A)'!$N:$N) -> 0 | E26: CE-B.14
A27: 15 | B27: Oneri diversi dalla gestione | C27: =SUMIF('2 Pdc unico (segm A)'!$I:$I,$E27,'2 Pdc unico (segm A)'!$N:$N) -> 0 | E27: CE-B.15
A28: 16 | B28: (+/-) Variazioni nelle rimanenze di semilavorati, prodotti in corso di lavorazione e di prodotti finiti | C28: =SUMIF('2 Pdc unico (segm A)'!$I:$I,$E28,'2 Pdc unico (segm A)'!$N:$N) -> 0 | E28: CE-B.16
A29: 17 | B29: (‐) Incrementi di immobilizzazioni per lavori interni | C29: =SUMIF('2 Pdc unico (segm A)'!$I:$I,$E29,'2 Pdc unico (segm A)'!$N:$N) -> 0 | E29: CE-B.17
B30: TOTALE COSTI E ONERI DELLA GESTIONE OPERATIVA (B) | C30: =+C17+C18+C19+C20+C21+C24+C25+C26+C27+C28+C29 -> 0
A31: C) RETTIFICHE DI VALORE DI ATTIVITA' E PASSIVITA'
A32: 18 | B32: Rivalutazioni | C32: =SUMIF('2 Pdc unico (segm A)'!$I:$I,$E32,'2 Pdc unico (segm A)'!$N:$N) -> 0 | E32: CE-C.18
A33: 19 | B33: Svalutazioni | C33: =SUMIF('2 Pdc unico (segm A)'!$I:$I,$E33,'2 Pdc unico (segm A)'!$N:$N) -> 0 | E33: CE-C.19
B34: TOTALE RETTIFICHE DI VALORE DI ATTIVITA' E PASSIVITA' (C) | C34: =+C32-C33 -> 0
B35: RISULTATO ECONOMICO DELLA GESTIONE OPERATIVA (A‐B+/‐C) | C35: =+C15-C30+C34 -> 0
A36: D) RICAVI E COSTI DELLA GESTIONE FINANZIARIA
A37: 20 | B37: Interessi attivi | C37: =SUMIF('2 Pdc unico (segm A)'!$I:$I,$E37,'2 Pdc unico (segm A)'!$N:$N) -> 0 | E37: CE-D.20
A38: 21 | B38: Altri ricavi finanziari | C38: =SUMIF('2 Pdc unico (segm A)'!$I:$I,$E38,'2 Pdc unico (segm A)'!$N:$N) -> 0 | E38: CE-D.21
B39: Totale ricavi finanziari | C39: =+C38+C37 -> 0
A40: 22 | B40: Interessi passivi | C40: =SUMIF('2 Pdc unico (segm A)'!$I:$I,$E40,'2 Pdc unico (segm A)'!$N:$N) -> 0 | E40: CE-D.22
...

Sheet 6 Pdc unico completo
A1: PIANO DEI CONTI UNICO (Aggiornamento, approvato con decisioni del Comitato Direttivo della Struttura di governance del 17 aprile 2025, del Piano dei conti adottato con Determina del Ragioniere generale dello Stato n. 176775 del 27 giugno 2024 )
B2: Codice delle voci | H2: Voci del SEGMENTO A (ITAS) | J2: Voci del SEGMENTO B (statistico/conoscitivo)
A3: Numero progressivo voce | B3: Cod Liv I | C3: Cod Liv II | D3: Cod Liv III | E3: Cod Liv IV | F3: Cod Liv V | G3: Codice puntato completo v0425 | H3: Livello voce Segm A | I3: Descrizione voce Segmento A | J3: Livello voce Segm B | K3: Descrizione voce Segmento B | L3: Collegamento delle voci del segmento A con le voci degli schemi di bilancio ITAS1
A4: 1 | B4: 1 | C4: 0 | D4: 0 | E4: 0 | F4: 0 | G4: =CONCATENATE(B4,".",C4,".",D4,".",E4,".",F4) -> 1.0.0.0.0 | H4: I | I4: ATTIVITA' NON CORRENTI
A5: 2 | B5: 1 | C5: 1 | D5: 0 | E5: 0 | F5: 0 | G5: =CONCATENATE(B5,".",C5,".",D5,".",E5,".",F5) -> 1.1.0.0.0 | H5: II | I5: Immobilizzazioni immateriali e avviamento | L5: SP-ATT-A_L
A6: 3 | B6: 1 | C6: 1 | D6: 1 | E6: 0 | F6: 0 | G6: =CONCATENATE(B6,".",C6,".",D6,".",E6,".",F6) -> 1.1.1.0.0 | H6: III | I6: Diritti di brevetto industriale e diritti di utilizzazione di opere dell'ingegno | L6: SP-ATT-A.1_L
B7: 1 | C7: 1 | D7: 1 | E7: 1 | F7: 0 | G7: =CONCATENATE(B7,".",C7,".",D7,".",E7,".",F7) -> 1.1.1.1.0 | H7: IV | I7: Diritti di brevetto industriale e diritti di utilizzazione di opere dell'ingegno acquisiti con leasing finanziario | L7: SP-ATT-A.1_L_leas
A8: 4 | B8: 1 | C8: 1 | D8: 1 | E8: 1 | F8: 1 | G8: =CONCATENATE(B8,".",C8,".",D8,".",E8,".",F8) -> 1.1.1.1.1 | J8: V | K8: Software applicativo acquisito con leasing finanziario
A9: 5 | B9: 1 | C9: 1 | D9: 1 | E9: 1 | F9: 2 | G9: =CONCATENATE(B9,".",C9,".",D9,".",E9,".",F9) -> 1.1.1.1.2 | J9: V | K9: Altri brevetti industriali e diritti di utilizzazione di opere di ingegno acquisiti con leasing finanziario
B10: 1 | C10: 1 | D10: 1 | E10: 2 | F10: 0 | G10: =CONCATENATE(B10,".",C10,".",D10,".",E10,".",F10) -> 1.1.1.2.0 | H10: IV | I10: Diritti di brevetto industriale e diritti di utilizzazione di opere dell'ingegno in concessione a terzi | L10: SP-ATT-A.1_L_conc
A11: 4 | B11: 1 | C11: 1 | D11: 1 | E11: 2 | F11: 1 | G11: =CONCATENATE(B11,".",C11,".",D11,".",E11,".",F11) -> 1.1.1.2.1 | J11: V | K11: Software applicativo in concessione a terzi
A12: 5 | B12: 1 | C12: 1 | D12: 1 | E12: 2 | F12: 2 | G12: =CONCATENATE(B12,".",C12,".",D12,".",E12,".",F12) -> 1.1.1.2.2 | J12: V | K12: Altri brevetti industriali e diritti di utilizzazione di opere di ingegno in concessione a terzi
B13: 1 | C13: 1 | D13: 1 | E13: 3 | F13: 0 | G13: =CONCATENATE(B13,".",C13,".",D13,".",E13,".",F13) -> 1.1.1.3.0 | H13: IV | I13: Diritti di brevetto industriale e diritti di utilizzazione di opere dell'ingegno non in concessione e non acquisiti con leasing finanziario | L13: SP-ATT-A.1_L_Noleasconc
A14: 4 | B14: 1 | C14: 1 | D14: 1 | E14: 3 | F14: 1 | G14: =CONCATENATE(B14,".",C14,".",D14,".",E14,".",F14) -> 1.1.1.3.1 | J14: V | K14: Software applicativo autoprodotto
A15: 5 | B15: 1 | C15: 1 | D15: 1 | E15: 3 | F15: 2 | G15: =CONCATENATE(B15,".",C15,".",D15,".",E15,".",F15) -> 1.1.1.3.2 | J15: V | K15: Software applicativo acquisito da terzi a titolo definitivo
A16: 6 | B16: 1 | C16: 1 | D16: 1 | E16: 3 | F16: 3 | G16: =CONCATENATE(B16,".",C16,".",D16,".",E16,".",F16) -> 1.1.1.3.3 | J16: V | K16: Altri brevetti industriali e diritti di utilizzazione di opere di ingegno
A17: 8 | B17: 1 | C17: 1 | D17: 2 | E17: 0 | F17: 0 | G17: =CONCATENATE(B17,".",C17,".",D17,".",E17,".",F17) -> 1.1.2.0.0 | H17: III | I17: Concessioni, licenze, marchi | L17: SP-ATT-A.2_L
B18: 1 | C18: 1 | D18: 2 | E18: 1 | F18: 0 | G18: =CONCATENATE(B18,".",C18,".",D18,".",E18,".",F18) -> 1.1.2.1.0 | H18: IV | I18: Concessioni, licenze, marchi acquisiti con leasing finanziario | L18: SP-ATT-A.2_L_leas
B19: 1 | C19: 1 | D19: 2 | E19: 2 | F19: 0 | G19: =CONCATENATE(B19,".",C19,".",D19,".",E19,".",F19) -> 1.1.2.2.0 | H19: IV | I19: Concessioni, licenze, marchi in concessione a terzi | L19: SP-ATT-A.2_L_conc
B20: 1 | C20: 1 | D20: 2 | E20: 3 | F20: 0 | G20: =CONCATENATE(B20,".",C20,".",D20,".",E20,".",F20) -> 1.1.2.3.0 | H20: IV | I20: Concessioni, licenze, marchi non in concessione e non acquisiti con leasing finanziario | L20: SP-ATT-A.2_L_Noleasconc
A21: 12 | B21: 1 | C21: 1 | D21: 3 | E21: 0 | F21: 0 | G21: =CONCATENATE(B21,".",C21,".",D21,".",E21,".",F21) -> 1.1.3.0.0 | H21: III | I21: Altri diritti | L21: SP-ATT-A.3_L
B22: 1 | C22: 1 | D22: 3 | E22: 1 | F22: 0 | G22: =CONCATENATE(B22,".",C22,".",D22,".",E22,".",F22) -> 1.1.3.1.0 | H22: IV | I22: Altri diritti acquisiti con leasing finanziario | L22: SP-ATT-A.3_L_leas
B23: 1 | C23: 1 | D23: 3 | E23: 2 | F23: 0 | G23: =CONCATENATE(B23,".",C23,".",D23,".",E23,".",F23) -> 1.1.3.2.0 | H23: IV | I23: Altri diritti in concessione a terzi | L23: SP-ATT-A.3_L_conc
B24: 1 | C24: 1 | D24: 3 | E24: 3 | F24: 0 | G24: =CONCATENATE(B24,".",C24,".",D24,".",E24,".",F24) -> 1.1.3.3.0 | H24: IV | I24: Altri diritti non in concessione e non acquisiti con leasing finanziario | L24: SP-ATT-A.3_L_Noleasconc
A25: 15 | B25: 1 | C25: 1 | D25: 4 | E25: 0 | F25: 0 | G25: =CONCATENATE(B25,".",C25,".",D25,".",E25,".",F25) -> 1.1.4.0.0 | H25: III | I25: Avviamento | L25: SP-ATT-A.4_L
B26: 1 | C26: 1 | D26: 4 | E26: 1 | F26: 0 | G26: =CONCATENATE(B26,".",C26,".",D26,".",E26,".",F26) -> 1.1.4.1.0 | H26: IV | I26: Avviamento acquisito con leasing finanziario | L26: SP-ATT-A.4_L_leas
B27: 1 | C27: 1 | D27: 4 | E27: 2 | F27: 0 | G27: =CONCATENATE(B27,".",C27,".",D27,".",E27,".",F27) -> 1.1.4.2.0 | H27: IV | I27: Avviamento in concessione a terzi | L27: SP-ATT-A.4_L_conc
B28: 1 | C28: 1 | D28: 4 | E28: 3 | F28: 0 | G28: =CONCATENATE(B28,".",C28,".",D28,".",E28,".",F28) -> 1.1.4.3.0 | H28: IV | I28: Avviamento non in concessione e non acquisito con leasing finanziario | L28: SP-ATT-A.4_L_Noleasconc
A29: 16 | B29: 1 | C29: 1 | D29: 5 | E29: 0 | F29: 0 | G29: =CONCATENATE(B29,".",C29,".",D29,".",E29,".",F29) -> 1.1.5.0.0 | H29: III | I29: Immobilizzazioni immateriali in corso e acconti | L29: SP-ATT-A.5_L
A30: 17 | B30: 1 | C30: 1 | D30: 5 | E30: 1 | F30: 0 | G30: =CONCATENATE(B30,".",C30,".",D30,".",E30,".",F30) -> 1.1.5.1.0 | J30: IV | K30: Immobilizzazioni Immateriali in corso
A31: 18 | B31: 1 | C31: 1 | D31: 5 | E31: 2 | F31: 0 | G31: =CONCATENATE(B31,".",C31,".",D31,".",E31,".",F31) -> 1.1.5.2.0 | J31: IV | K31: Acconti per la realizzazione di Immobilizzazioni Immateriali
